BEGIN:VCALENDAR
VERSION:2.0
PRODID:-//ChamberMaster//Event Calendar 2.0//EN
METHOD:PUBLISH
X-PUBLISHED-TTL:P3D
REFRESH-INTERVAL:P3D
CALSCALE:GREGORIAN
BEGIN:VEVENT
DTSTART:20240601T150000Z
DTEND:20240602T020000Z
X-MICROSOFT-CDO-ALLDAYEVENT:FALSE
SUMMARY:1000 Books Before Kindergarten
DESCRIPTION:Whether your child is three months old or three years old\, reading helps build social and emotional skills\, sparks creativity and promotes bonding. Visit the Youth Services desk at the Library to sign up. Happy reading!\n\nFor more information\, visit 1000 Books Before Kindergarten
X-ALT-DESC;FMTTYPE=text/html:<p>Whether your child is three months old or three years old\, reading helps build social and emotional skills\, sparks creativity and promotes bonding. Visit the Youth Services desk at the Library to sign up. Happy reading!</p>\n\n<p>For more information\, visit&nbsp\;<a href="https://www.lakeblufflibrary.org/1000-books-kindergarten" style="box-sizing: border-box\; background-color: transparent\; color: rgb(41\, 84\, 209)\; text-decoration-line: none\;">1000 Books Before Kindergarten</a></p>\n
LOCATION:Lake Bluff Public Library 123 E. Scranton Ave. Lake Bluff\, IL. 60044
UID:e.1126.26731
SEQUENCE:3
DTSTAMP:20260424T010737Z
URL:https://business.lflbchamber.com/events/details/1000-books-before-kindergarten-06-01-2024-26731
END:VEVENT

END:VCALENDAR
