BEGIN:VCALENDAR
VERSION:2.0
PRODID:-//ChamberMaster//Event Calendar 2.0//EN
METHOD:PUBLISH
X-PUBLISHED-TTL:P3D
REFRESH-INTERVAL:P3D
CALSCALE:GREGORIAN
BEGIN:VEVENT
DTSTART:20220916T160000Z
DTEND:20220916T170000Z
X-MICROSOFT-CDO-ALLDAYEVENT:FALSE
SUMMARY:1000 Books Before Kindergarten Party
DESCRIPTION:Whether you are about to start our 1000 Books Before Kindergarten program\, are already reading\, or have finished 1000 books\, join us to celebrate our reading journeys with stories\, songs\, and activities! For new readers\, we will provide information about the program and can help you register.
X-ALT-DESC;FMTTYPE=text/html:<span style="font-family:gotham\,sans-serif\; font-size:14px">Whether you are about to start our 1000 Books Before Kindergarten program\, are already reading\, or have finished 1000 books\, join us to celebrate our reading journeys with stories\, songs\, and activities! For new readers\, we will provide information about the program and can help you register.&nbsp\;</span>
LOCATION:Lake Forest Library 360 E Deerpath Rd. Lake Forest\, IL 60045
UID:e.1126.22346
SEQUENCE:3
DTSTAMP:20260426T040657Z
URL:https://business.lflbchamber.com/events/details/1000-books-before-kindergarten-party-22346
END:VEVENT

END:VCALENDAR
