BEGIN:VCALENDAR
VERSION:2.0
PRODID:-//ChamberMaster//Event Calendar 2.0//EN
METHOD:PUBLISH
X-PUBLISHED-TTL:P3D
REFRESH-INTERVAL:P3D
CALSCALE:GREGORIAN
BEGIN:VEVENT
DTSTART:20201008T230000Z
DTEND:20201009T000000Z
X-MICROSOFT-CDO-ALLDAYEVENT:FALSE
SUMMARY:10th Congresional District Virtual Candidate Forum
DESCRIPTION:10th Congressional District Virtual Candidate Forum The League of Women Voters of Lake Forest/Lake Bluff Area is co-sponsoring a zoom webinar Candidate Forum for the 10th Congressional District featuring Brad Schneider (D) and Valerie Ramirez Mukherjee (R) on Thurs. Oct. 1\, 6:00pm. Registration is required. One question for the candidates can be submitted with registration. Go to https://tinyurl.com/10thCongressional You might want to go to the IllinoisVoterGuide.org for more information about the candidates and see who else is on your ballot before voting.
X-ALT-DESC;FMTTYPE=text/html:10th Congressional District Virtual Candidate Forum The League of Women Voters of Lake Forest/Lake Bluff Area is co-sponsoring a zoom webinar Candidate Forum for the 10th Congressional District featuring Brad Schneider (D) and Valerie Ramirez Mukherjee (R) on Thurs. Oct. 1\, 6:00pm. Registration is required. One question for the candidates can be submitted with registration. Go to https://tinyurl.com/10thCongressional You might want to go to the IllinoisVoterGuide.org for more information about the candidates and see who else is on your ballot before voting.
LOCATION:zoom webinar Registration is required. Go to https://tinyurl.com/10thCongressional
UID:e.1126.19677
SEQUENCE:3
DTSTAMP:20260423T104931Z
URL:https://business.lflbchamber.com/events/details/10th-congresional-district-virtual-candidate-forum-19677
END:VEVENT

END:VCALENDAR
