BEGIN:VCALENDAR
VERSION:2.0
PRODID:-//ChamberMaster//Event Calendar 2.0//EN
METHOD:PUBLISH
X-PUBLISHED-TTL:P3D
REFRESH-INTERVAL:P3D
CALSCALE:GREGORIAN
BEGIN:VEVENT
DTSTART:20190331T170000Z
DTEND:20190331T190000Z
X-MICROSOFT-CDO-ALLDAYEVENT:FALSE
SUMMARY:12th Annual Emerging Artist Exhibit Opening Reception
DESCRIPTION:The Deer Path Art League presents the 12th Annual Emerging Artist Exhibit | featuring artwork from Lake Forest-Lake Bluff schools from preschool to highschool. Celebrate the young artists in our community! Lunch will be available for purchase at The Gallery.
X-ALT-DESC;FMTTYPE=text/html:<span style="color:rgb(29\, 33\, 41)\; font-family:system-ui\,-apple-system\,blinkmacsystemfont\,.sfnstext-regular\,sans-serif\; font-size:14px">The Deer Path Art League presents the 12th Annual Emerging Artist Exhibit | featuring artwork from Lake Forest-Lake Bluff schools from preschool to highschool. Celebrate the young artists in our community! Lunch will be available for purchase at The Gallery.</span><br />\n&nbsp\;
LOCATION:The Gallery 202 E Wisconsin Ave. Lake Forest\, IL 60045
UID:e.1126.17534
SEQUENCE:3
DTSTAMP:20260424T100511Z
URL:https://business.lflbchamber.com/events/details/12th-annual-emerging-artist-exhibit-opening-reception-17534
END:VEVENT

END:VCALENDAR
