BEGIN:VCALENDAR
VERSION:2.0
PRODID:-//ChamberMaster//Event Calendar 2.0//EN
METHOD:PUBLISH
X-PUBLISHED-TTL:P3D
REFRESH-INTERVAL:P3D
CALSCALE:GREGORIAN
BEGIN:VEVENT
DTSTART:20210411T190000Z
DTEND:20210411T210000Z
X-MICROSOFT-CDO-ALLDAYEVENT:FALSE
SUMMARY:2021 Oscar Nominated Documentary Short Films
DESCRIPTION:Your annual chance to predict Academy Award winners (and have the edge in your Oscar pool)! A perennial hit with audiences around the country and the world\, don't miss this year's selection of shorts. The Academy Awards take place Sunday\, April 25th. Colette   Anthony Giacchino and Alice Doyard (France/Germany/USA\, 24 min.) A Concerto Is a Conversation   Ben Proudfoot and Kris Bowers (USA\, 13 min.) Do Not Split   Anders Hammer and Charlotte Cook (USA/Norway\, 20 min.) Hunger Ward   Skye Fitzgerald and Michael Scheuerman (USA\, 40 min.) A Love Song for Latasha   Sophia Nahli Allison and Janice Duncan (USA\, 18 min.)
X-ALT-DESC;FMTTYPE=text/html:Your annual chance to predict Academy Award winners (and have the edge in your Oscar pool)! A perennial hit with audiences around the country and the world\, don&rsquo\;t miss this year&rsquo\;s selection of shorts. The Academy Awards take place Sunday\, April 25th. Colette &ndash\; Anthony Giacchino and Alice Doyard (France/Germany/USA\, 24 min.) A Concerto Is a Conversation &ndash\; Ben Proudfoot and Kris Bowers (USA\, 13 min.) Do Not Split &ndash\; Anders Hammer and Charlotte Cook (USA/Norway\, 20 min.) Hunger Ward &ndash\; Skye Fitzgerald and Michael Scheuerman (USA\, 40 min.) A Love Song for Latasha &ndash\; Sophia Nahli Allison and Janice Duncan (USA\, 18 min.)
LOCATION:Gorton
UID:e.1126.20212
SEQUENCE:3
DTSTAMP:20260422T120526Z
URL:https://business.lflbchamber.com/events/details/2021-oscar-nominated-documentary-short-films-04-11-2021-20212
END:VEVENT

END:VCALENDAR
