BEGIN:VCALENDAR
VERSION:2.0
PRODID:-//ChamberMaster//Event Calendar 2.0//EN
METHOD:PUBLISH
X-PUBLISHED-TTL:P3D
REFRESH-INTERVAL:P3D
CALSCALE:GREGORIAN
BEGIN:VEVENT
DTSTART:20240621T003000Z
DTEND:20240621T023000Z
X-MICROSOFT-CDO-ALLDAYEVENT:FALSE
SUMMARY:A Fireside Chat: with Author Payam Zamani
DESCRIPTION:Payam Zamani is an entrepreneur and the founder of One Planet Group. Infused with Zamani's deeply held beliefs from the Baha'i Faith\, One Planet's mission is to support strong business ideas while building an ethos that helps improve society and gives back to communities
X-ALT-DESC;FMTTYPE=text/html:Payam Zamani is an entrepreneur and the founder of One Planet Group. Infused with Zamani&#39\;s deeply held beliefs from the Baha&#39\;i Faith\, One Planet&#39\;s mission is to support strong business ideas while building an ethos that helps improve society and gives back to communities
LOCATION:1850 Second Street Highland Park\, IL 60035
UID:e.1126.27568
SEQUENCE:3
DTSTAMP:20260424T010724Z
URL:https://business.lflbchamber.com/events/details/a-fireside-chat-with-author-payam-zamani-27568
END:VEVENT

END:VCALENDAR
