BEGIN:VCALENDAR
VERSION:2.0
PRODID:-//ChamberMaster//Event Calendar 2.0//EN
METHOD:PUBLISH
X-PUBLISHED-TTL:P3D
REFRESH-INTERVAL:P3D
CALSCALE:GREGORIAN
BEGIN:VEVENT
DTSTART:20190428T220000Z
DTEND:20190429T000000Z
X-MICROSOFT-CDO-ALLDAYEVENT:FALSE
SUMMARY:A League of Their Own Part of the The Film Series at Gorton
DESCRIPTION:The All-American Girls' Professional Baseball League was founded in 1943\, when most of the men of baseball-playing age were far away in Europe and Asia fighting World War II. The league flourished until after World War II\, when\, with the men's return\, the league was consigned to oblivion. Director Penny Marshall re-creates the wartime era when women's baseball looked to stand a good chance of sweeping the country. Starring Tom Hanks\, Geena Davis\, Lori Petty and Madonna
X-ALT-DESC;FMTTYPE=text/html:The All-American Girls&rsquo\; Professional Baseball League was founded in 1943\, when most of the men of baseball-playing age were far away in Europe and Asia fighting World War II. The league flourished until after World War II\, when\, with the men&rsquo\;s return\, the league was consigned to oblivion. Director Penny Marshall re-creates the wartime era when women&rsquo\;s baseball looked to stand a good chance of sweeping the country. Starring Tom Hanks\, Geena Davis\, Lori Petty and Madonna
LOCATION:John & Nancy Hughes Theater 400 E. Illinois Road\, Lake Forest\, 60045
UID:e.1126.17699
SEQUENCE:3
DTSTAMP:20260424T085543Z
URL:https://business.lflbchamber.com/events/details/a-league-of-their-own-part-of-the-the-film-series-at-gorton-17699
END:VEVENT

END:VCALENDAR
