BEGIN:VCALENDAR
VERSION:2.0
PRODID:-//ChamberMaster//Event Calendar 2.0//EN
METHOD:PUBLISH
X-PUBLISHED-TTL:P3D
REFRESH-INTERVAL:P3D
CALSCALE:GREGORIAN
BEGIN:VEVENT
DTSTART:20231216T200000Z
DTEND:20231216T214000Z
X-MICROSOFT-CDO-ALLDAYEVENT:FALSE
SUMMARY:A Nature Carol-Nature Cat
DESCRIPTION:Join Wayfarer Theaters and Spiffy picture for a holiday celebration with Nature Cat! Our special event will include live appearances by Nature Cat among other holiday festivities!
X-ALT-DESC;FMTTYPE=text/html:Join Wayfarer Theaters and Spiffy picture for a holiday celebration with Nature Cat! Our special event will include live appearances by Nature Cat among other holiday festivities!
LOCATION:Wayfarer Theaters: 1850 2nd Street\, Highland Park\, IL 60035
UID:e.1126.26139
SEQUENCE:3
DTSTAMP:20260424T100543Z
URL:https://business.lflbchamber.com/events/details/a-nature-carol-nature-cat-26139
END:VEVENT

END:VCALENDAR
