BEGIN:VCALENDAR
VERSION:2.0
PRODID:-//ChamberMaster//Event Calendar 2.0//EN
METHOD:PUBLISH
X-PUBLISHED-TTL:P3D
REFRESH-INTERVAL:P3D
CALSCALE:GREGORIAN
BEGIN:VEVENT
DTSTART:20210310T190000Z
DTEND:20210310T200000Z
X-MICROSOFT-CDO-ALLDAYEVENT:FALSE
SUMMARY:A Toolkit for Families Webinar
DESCRIPTION:This virtual presentation will help you fill your Toolkit with information on: ~ Medical Errors   Tips to help prevent them ~ Patient Safety   What one can do to be a safe patient ~ Questions to Ask the Doctor   Do you know the right questions to ask? Presented by Mary Kay Furiasse\, Elder Law Attorney\, AZ Health & Elder Law\, LLC All are welcome! RSVP to Elderwerks at 847-462-0885 or events@elderwerks.org.
X-ALT-DESC;FMTTYPE=text/html:This virtual presentation will help you fill your Toolkit with information on: ~ Medical Errors &ndash\; Tips to help prevent them ~ Patient Safety &ndash\; What one can do to be a safe patient ~ Questions to Ask the Doctor &ndash\; Do you know the right questions to ask? Presented by Mary Kay Furiasse\, Elder Law Attorney\, AZ Health &amp\; Elder Law\, LLC All are welcome! RSVP to Elderwerks at 847-462-0885 or events@elderwerks.org.
LOCATION:Zoom
UID:e.1126.19899
SEQUENCE:3
DTSTAMP:20260425T214452Z
URL:https://business.lflbchamber.com/events/details/a-toolkit-for-families-webinar-19899
END:VEVENT

END:VCALENDAR
