BEGIN:VCALENDAR
VERSION:2.0
PRODID:-//ChamberMaster//Event Calendar 2.0//EN
METHOD:PUBLISH
X-PUBLISHED-TTL:P3D
REFRESH-INTERVAL:P3D
CALSCALE:GREGORIAN
BEGIN:VEVENT
DTSTART:20240626T233000Z
DTEND:20240627T010000Z
X-MICROSOFT-CDO-ALLDAYEVENT:FALSE
SUMMARY:A Well Defined Professional Sales Process
DESCRIPTION:A Professional Sales Process can (and should) be a well-defined\, repeatable\, written series of steps that lead from \n\n\n\n	understanding the value you deliver to your customers ...to \n	\n		defining your perfect prospects and targeting them ... to \n		who is your competitor and what makes you better ... to\n		a pricing strategy based on value you deliver ... to \n		increased and repeatable revenue\n	\n	\n\n\n \n\nSpeaker Bio:\n\nBob Dolan CV\n\n\n	MS Computer Science University of Illinois\n	5 years Sandia National Laboratory - Member of the Technical Staff\n	15 years Software Sales - Early Stage SW Companies\n	5 years - VP Sales - Documentum - from Start-uo to Sold to EMC/Dell\n	15 years - VP Global Sales - Kinaxis - from Start-Up to IPO
X-ALT-DESC;FMTTYPE=text/html:<ul style="box-sizing: border-box\; border-width: 0px\; border-style: solid\; border-color: currentcolor\; list-style-position: initial\; list-style-image: initial\; margin: 0px\; margin-block-start: var(--wysiwyg-gap-size)\; margin-block-end: var(--wysiwyg-gap-size)\; color: rgb(0\, 0\, 0)\; font-family: ui-sans-serif\, system-ui\, -apple-system\, BlinkMacSystemFont\, &quot\;Segoe UI&quot\;\, Roboto\, &quot\;Helvetica Neue&quot\;\, Arial\, &quot\;Noto Sans&quot\;\, sans-serif\, &quot\;Apple Color Emoji&quot\;\, &quot\;Segoe UI Emoji&quot\;\, &quot\;Segoe UI Symbol&quot\;\, &quot\;Noto Color Emoji&quot\;\; font-size: medium\;">\n	<li style="box-sizing: border-box\; border-width: 0px\; border-style: solid\; border-color: currentcolor\; padding-left: 12px\; font-family: var(--ff-body)\; line-height: var(--lh-lg)\; color: var(--brand-secondaryGraphite)\; font-size: var(--fs-lg)\;">A Professional Sales Process can (and should) be a well-defined\, repeatable\, written series of steps that lead from&nbsp\;</li>\n</ul>\n\n<ol style="box-sizing: border-box\; border-width: 0px\; border-style: solid\; border-color: currentcolor\; list-style-position: initial\; list-style-image: initial\; margin: 0px\; margin-block-start: var(--wysiwyg-gap-size)\; margin-block-end: var(--wysiwyg-gap-size)\; color: rgb(0\, 0\, 0)\; font-family: ui-sans-serif\, system-ui\, -apple-system\, BlinkMacSystemFont\, &quot\;Segoe UI&quot\;\, Roboto\, &quot\;Helvetica Neue&quot\;\, Arial\, &quot\;Noto Sans&quot\;\, sans-serif\, &quot\;Apple Color Emoji&quot\;\, &quot\;Segoe UI Emoji&quot\;\, &quot\;Segoe UI Symbol&quot\;\, &quot\;Noto Color Emoji&quot\;\; font-size: medium\;">\n	<li style="box-sizing: border-box\; border-width: 0px\; border-style: solid\; border-color: currentcolor\; padding-left: 12px\; font-family: var(--ff-body)\; line-height: var(--lh-lg)\; color: var(--brand-secondaryGraphite)\; font-size: var(--fs-lg)\;">understanding&nbsp\;the value you deliver to your customers&nbsp\;...to&nbsp\;\n	<ol style="box-sizing: border-box\; border-width: 0px\; border-style: solid\; border-color: currentcolor\; list-style-position: initial\; list-style-image: initial\; margin: 0px\; margin-block-start: var(--wysiwyg-gap-size)\; margin-block-end: var(--wysiwyg-gap-size)\;">\n		<li style="box-sizing: border-box\; border-width: 0px\; border-style: solid\; border-color: currentcolor\; padding-left: 12px\; font-family: var(--ff-body)\; line-height: var(--lh-lg)\; color: var(--brand-secondaryGraphite)\; font-size: var(--fs-lg)\; margin-block-end: 1rem\;">defining your perfect prospects and targeting them ... to&nbsp\;</li>\n		<li style="box-sizing: border-box\; border-width: 0px\; border-style: solid\; border-color: currentcolor\; padding-left: 12px\; font-family: var(--ff-body)\; line-height: var(--lh-lg)\; color: var(--brand-secondaryGraphite)\; font-size: var(--fs-lg)\; margin-block-end: 1rem\;">who is your competitor and what makes you better ... to</li>\n		<li style="box-sizing: border-box\; border-width: 0px\; border-style: solid\; border-color: currentcolor\; padding-left: 12px\; font-family: var(--ff-body)\; line-height: var(--lh-lg)\; color: var(--brand-secondaryGraphite)\; font-size: var(--fs-lg)\; margin-block-end: 1rem\;">a pricing strategy based on value you deliver ... to&nbsp\;</li>\n		<li style="box-sizing: border-box\; border-width: 0px\; border-style: solid\; border-color: currentcolor\; padding-left: 12px\; font-family: var(--ff-body)\; line-height: var(--lh-lg)\; color: var(--brand-secondaryGraphite)\; font-size: var(--fs-lg)\;">increased and repeatable revenue</li>\n	</ol>\n	</li>\n</ol>\n\n<p style="box-sizing: border-box\; border-width: 0px\; border-style: solid\; border-color: currentcolor\; margin: 0px\; font-family: var(--ff-body)\; font-size: var(--fs-xl)\; line-height: var(--lh-xl)\; color: var(--brand-secondaryGraphite)\; margin-block-start: var(--wysiwyg-gap-size)\; margin-block-end: var(--wysiwyg-gap-size)\;">&nbsp\;</p>\n\n<p style="box-sizing: border-box\; border-width: 0px\; border-style: solid\; border-color: currentcolor\; margin: 0px\; font-family: var(--ff-body)\; font-size: var(--fs-xl)\; line-height: var(--lh-xl)\; color: var(--brand-secondaryGraphite)\; margin-block-start: var(--wysiwyg-gap-size)\; margin-block-end: var(--wysiwyg-gap-size)\;">Speaker Bio:</p>\n\n<p style="box-sizing: border-box\; border-width: 0px\; border-style: solid\; border-color: currentcolor\; margin: 0px\; font-family: var(--ff-body)\; font-size: var(--fs-xl)\; line-height: var(--lh-xl)\; color: var(--brand-secondaryGraphite)\; margin-block-start: var(--wysiwyg-gap-size)\; margin-block-end: var(--wysiwyg-gap-size)\;">Bob Dolan CV</p>\n\n<ul style="box-sizing: border-box\; border-width: 0px\; border-style: solid\; border-color: currentcolor\; list-style-position: initial\; list-style-image: initial\; margin: 0px\; margin-block-start: var(--wysiwyg-gap-size)\; margin-block-end: var(--wysiwyg-gap-size)\; color: rgb(0\, 0\, 0)\; font-family: ui-sans-serif\, system-ui\, -apple-system\, BlinkMacSystemFont\, &quot\;Segoe UI&quot\;\, Roboto\, &quot\;Helvetica Neue&quot\;\, Arial\, &quot\;Noto Sans&quot\;\, sans-serif\, &quot\;Apple Color Emoji&quot\;\, &quot\;Segoe UI Emoji&quot\;\, &quot\;Segoe UI Symbol&quot\;\, &quot\;Noto Color Emoji&quot\;\; font-size: medium\;">\n	<li style="box-sizing: border-box\; border-width: 0px\; border-style: solid\; border-color: currentcolor\; padding-left: 12px\; font-family: var(--ff-body)\; line-height: var(--lh-lg)\; color: var(--brand-secondaryGraphite)\; font-size: var(--fs-lg)\; margin-block-end: 1rem\;">MS Computer Science University of Illinois</li>\n	<li style="box-sizing: border-box\; border-width: 0px\; border-style: solid\; border-color: currentcolor\; padding-left: 12px\; font-family: var(--ff-body)\; line-height: var(--lh-lg)\; color: var(--brand-secondaryGraphite)\; font-size: var(--fs-lg)\; margin-block-end: 1rem\;">5 years Sandia National Laboratory - Member of the Technical Staff</li>\n	<li style="box-sizing: border-box\; border-width: 0px\; border-style: solid\; border-color: currentcolor\; padding-left: 12px\; font-family: var(--ff-body)\; line-height: var(--lh-lg)\; color: var(--brand-secondaryGraphite)\; font-size: var(--fs-lg)\; margin-block-end: 1rem\;">15 years Software Sales - Early Stage SW Companies</li>\n	<li style="box-sizing: border-box\; border-width: 0px\; border-style: solid\; border-color: currentcolor\; padding-left: 12px\; font-family: var(--ff-body)\; line-height: var(--lh-lg)\; color: var(--brand-secondaryGraphite)\; font-size: var(--fs-lg)\; margin-block-end: 1rem\;">5 years - VP Sales - Documentum - from Start-uo to Sold to EMC/Dell</li>\n	<li style="box-sizing: border-box\; border-width: 0px\; border-style: solid\; border-color: currentcolor\; padding-left: 12px\; font-family: var(--ff-body)\; line-height: var(--lh-lg)\; color: var(--brand-secondaryGraphite)\; font-size: var(--fs-lg)\;">15 years - VP Global Sales - Kinaxis - from Start-Up to IPO&nbsp\;</li>\n</ul>\n
LOCATION:Virtual
UID:e.1126.27585
SEQUENCE:3
DTSTAMP:20260424T010512Z
URL:https://business.lflbchamber.com/events/details/a-well-defined-professional-sales-process-27585
END:VEVENT

END:VCALENDAR
