BEGIN:VCALENDAR
VERSION:2.0
PRODID:-//ChamberMaster//Event Calendar 2.0//EN
METHOD:PUBLISH
X-PUBLISHED-TTL:P3D
REFRESH-INTERVAL:P3D
CALSCALE:GREGORIAN
BEGIN:VEVENT
DTSTART:20220511T210000Z
DTEND:20220511T220000Z
X-MICROSOFT-CDO-ALLDAYEVENT:FALSE
SUMMARY:Adult Crafternoon
DESCRIPTION:Join us for a fun crafternoon at the Library!\n\nMarch 9th at 4pm   Seed Bombs\n\nApril 13th at 4pm   Kitty Soda Planters\n\nMay 11th at 4pm   Paper Flowers\n\nIn-Person Only: These programs are offered in-person at the Library.
X-ALT-DESC;FMTTYPE=text/html:<p><span style="font-family:arial\,helvetica\,sans-serif">Join us for a fun crafternoon at the Library!</span></p>\n\n<p><span style="font-family:arial\,helvetica\,sans-serif">March 9th at 4pm &ndash\; Seed Bombs</span></p>\n\n<p><span style="font-family:arial\,helvetica\,sans-serif">April 13th at 4pm &ndash\; Kitty Soda Planters</span></p>\n\n<p><span style="font-family:arial\,helvetica\,sans-serif">May 11th at 4pm &ndash\; Paper Flowers</span></p>\n\n<p><span style="font-size:11pt"><span style="font-family:calibri\,sans-serif"><strong><span style="font-size:9pt"><span style="font-family:arial\,sans-serif">In-Person Only:&nbsp\;These programs are offered in-person at the Library.</span></span></strong></span></span></p>\n
LOCATION:Lake Bluff Public Library 123 E. Scranton Ave. Lake Bluff\, IL. 60044
UID:e.1126.21766
SEQUENCE:3
DTSTAMP:20260419T134819Z
URL:https://business.lflbchamber.com/events/details/adult-crafternoon-05-11-2022-21766
END:VEVENT

END:VCALENDAR
