BEGIN:VCALENDAR
VERSION:2.0
PRODID:-//ChamberMaster//Event Calendar 2.0//EN
METHOD:PUBLISH
X-PUBLISHED-TTL:P3D
REFRESH-INTERVAL:P3D
CALSCALE:GREGORIAN
BEGIN:VEVENT
DTSTART:20231220T220000Z
DTEND:20231220T230000Z
X-MICROSOFT-CDO-ALLDAYEVENT:FALSE
SUMMARY:Adult Crafternoon (Winter 2023/2024)
DESCRIPTION:Join us for a fun crafternoon at the Library! All materials will be provided...just bring your creativity! Registration is required.\n\nDecember 20th - Wrap & Yap (*Bring your gifts to wrap)\n\nJanuary 24th - Penguin Pebble Families\n\nFebruary 21st - Winter Terrariums
X-ALT-DESC;FMTTYPE=text/html:<p>Join us for a fun crafternoon at the Library! All materials will be provided...just bring your creativity! <strong>Registration is required.</strong></p>\n\n<p><strong>December 20th</strong>&nbsp\;- Wrap &amp\; Yap (*Bring your gifts to wrap)</p>\n\n<p><strong>January 24th</strong>&nbsp\;- Penguin Pebble Families</p>\n\n<p><strong>February 21st</strong>&nbsp\;- Winter Terrariums</p>\n
LOCATION:Lake Bluff Public Library 123 E. Scranton Ave. Lake Bluff\, IL. 60044
UID:e.1126.25844
SEQUENCE:3
DTSTAMP:20260424T100621Z
URL:https://business.lflbchamber.com/events/details/adult-crafternoon-winter-2023-2024-25844
END:VEVENT

END:VCALENDAR
