BEGIN:VCALENDAR
VERSION:2.0
PRODID:-//ChamberMaster//Event Calendar 2.0//EN
METHOD:PUBLISH
X-PUBLISHED-TTL:P3D
REFRESH-INTERVAL:P3D
CALSCALE:GREGORIAN
BEGIN:VEVENT
DTSTART:20200317T000000Z
DTEND:20200317T003000Z
X-MICROSOFT-CDO-ALLDAYEVENT:FALSE
SUMMARY:Adult Improv Jams
DESCRIPTION:Are you in need of some fun and creativity on a Monday night? Join Active Improv's JAM as Ben & David spin the wheel of Impro and run you through short-form improv in an exciting and casual environment. This is a great way to introduce yourself to the wonders of improv!
X-ALT-DESC;FMTTYPE=text/html:Are you in need of some fun and creativity on a Monday night? Join Active Improv&#39\;s JAM as Ben &amp\; David spin the wheel of Impro and run you through short-form improv in an exciting and casual environment. This is a great way to introduce yourself to the wonders of improv!
LOCATION:Gorton Community Center
UID:e.1126.19090
SEQUENCE:3
DTSTAMP:20260420T104017Z
URL:https://business.lflbchamber.com/events/details/adult-improv-jams-03-16-2020-19090
END:VEVENT

END:VCALENDAR
