BEGIN:VCALENDAR
VERSION:2.0
PRODID:-//ChamberMaster//Event Calendar 2.0//EN
METHOD:PUBLISH
X-PUBLISHED-TTL:P3D
REFRESH-INTERVAL:P3D
CALSCALE:GREGORIAN
BEGIN:VEVENT
DTSTART:20250423T213000Z
DTEND:20250423T223000Z
X-MICROSOFT-CDO-ALLDAYEVENT:FALSE
SUMMARY:After School Adventure Club (Spring 2025)
DESCRIPTION:Stop by after school and choose your own "adventure". We'll always have something for you to do\, like a craft\, game or activity\, but you can also just hang out! Let us know what you're interested in doing\, and we'll do our best to make it happen at future club meeting. \n\nAfter School Adventure Club is for ages 9-13\n\nWe will have additional After School Adventure Clubs on April 23rd and May 14th
X-ALT-DESC;FMTTYPE=text/html:<p>Stop by after school and choose your own &quot\;adventure&quot\;. We&#39\;ll always have something for you to do\, like a craft\, game or activity\, but you can also just hang out! Let us know what you&#39\;re interested in doing\, and we&#39\;ll do our best to make it happen at future club meeting.&nbsp\;</p>\n\n<p><strong>After School Adventure Club is for ages 9-13</strong></p>\n\n<p><strong>We will have additional After School Adventure Clubs on April 23rd and May 14th</strong></p>\n
LOCATION:Lake Bluff Public Library 123 E. Scranton Ave. Lake Bluff\, IL. 60044
UID:e.1126.29967
SEQUENCE:3
DTSTAMP:20260424T040809Z
URL:https://business.lflbchamber.com/events/details/after-school-adventure-club-spring-2025-04-16-2025-29967
END:VEVENT

END:VCALENDAR
