BEGIN:VCALENDAR
VERSION:2.0
PRODID:-//ChamberMaster//Event Calendar 2.0//EN
METHOD:PUBLISH
X-PUBLISHED-TTL:P3D
REFRESH-INTERVAL:P3D
CALSCALE:GREGORIAN
BEGIN:VEVENT
DTSTART:20250618T213000Z
DTEND:20250618T223000Z
X-MICROSOFT-CDO-ALLDAYEVENT:FALSE
SUMMARY:Afternoon Adventure Club (Summer 2025)
DESCRIPTION:Stop by the Library in the afternoon and choose your own 'adventure'. We'll always have something for you to do\, like cracking a geode or making scratch art\, but you can also just hang out! Let us know what you're interested in doing\, and we'll do our best to make it happen at a future club meeting.\n\nAfternoon Adventure Club is for ages 9 - 13.
X-ALT-DESC;FMTTYPE=text/html:<p>Stop by the Library in the afternoon and choose your own &#39\;adventure&#39\;. We&#39\;ll always have something for you to do\, like cracking a geode or making scratch art\, but you can also just hang out! Let us know what you&#39\;re interested in doing\, and we&#39\;ll do our best to make it happen at a future club meeting.</p>\n\n<p><strong>Afternoon Adventure Club is for ages 9 - 13.</strong></p>\n
LOCATION:Lake Bluff Public Library 123 E. Scranton Ave. Lake Bluff\, IL. 60044
UID:e.1126.31005
SEQUENCE:3
DTSTAMP:20260424T065316Z
URL:https://business.lflbchamber.com/events/details/afternoon-adventure-club-summer-2025-31005
END:VEVENT

END:VCALENDAR
