BEGIN:VCALENDAR
VERSION:2.0
PRODID:-//ChamberMaster//Event Calendar 2.0//EN
METHOD:PUBLISH
X-PUBLISHED-TTL:P3D
REFRESH-INTERVAL:P3D
CALSCALE:GREGORIAN
BEGIN:VEVENT
DTSTART:20190618T193000Z
DTEND:20190618T203000Z
X-MICROSOFT-CDO-ALLDAYEVENT:FALSE
SUMMARY:Afternoon Book Club
DESCRIPTION:June 18: The Rent Collector by Cameron Wright (Fiction\, 2012\, 304 pages) \n\nSurvival for Ki Lim and Sang Ly is a daily battle at Stung Meanchey\, the largest municipal waste dump in all of Cambodia. They make their living scavenging recyclables from the trash. Life would be hard enough without the worry for their chronically ill child\, Nisay\, and the added expense of medicines that are not working. Just when things seem worst\, Sang Ly learns a secret about the ill-tempered rent collector who comes demanding money--a secret that sets in motion a tide that will change the life of everyone it sweeps past. The Rent Collector is a story of hope\, of one womans journey to save her son and another womans chance at redemption. It demonstrates that even in a dump in Cambodia--perhaps especially in a dump in Cambodia--everyone deserves a second chance.
X-ALT-DESC;FMTTYPE=text/html:June 18: The Rent Collector by Cameron Wright (Fiction\, 2012\, 304 pages)&nbsp\;<br />\n<span style="font-family:arial\,sans-serif\; font-size:14px">Survival for Ki Lim and Sang Ly is a daily battle at Stung Meanchey\, the largest municipal waste dump in all of Cambodia. They make their living scavenging recyclables from the trash. Life would be hard enough without the worry for their chronically ill child\, Nisay\, and the added expense of medicines that are not working. Just when things seem worst\, Sang Ly learns a secret about the ill-tempered rent collector who comes demanding money--a secret that sets in motion a tide that will change the life of everyone it sweeps past. The Rent Collector is a story of hope\, of one womans journey to save her son and another womans chance at redemption. It demonstrates that even in a dump in Cambodia--perhaps especially in a dump in Cambodia--everyone deserves a second chance.</span>
LOCATION:Lake Bluff Public Library 123 E. Scranton Ave. Lake Bluff\, IL 60044
UID:e.1126.17996
SEQUENCE:3
DTSTAMP:20260424T071734Z
URL:https://business.lflbchamber.com/events/details/afternoon-book-club-06-18-2019-17996
END:VEVENT

END:VCALENDAR
