BEGIN:VCALENDAR
VERSION:2.0
PRODID:-//ChamberMaster//Event Calendar 2.0//EN
METHOD:PUBLISH
X-PUBLISHED-TTL:P3D
REFRESH-INTERVAL:P3D
CALSCALE:GREGORIAN
BEGIN:VEVENT
DTSTART:20220920T193000Z
DTEND:20220920T203000Z
X-MICROSOFT-CDO-ALLDAYEVENT:FALSE
SUMMARY:Afternoon Book Club
DESCRIPTION:Join Carol at the Library for an insightful book discussion. Here's what we're reading this quarter:\n\nSeptember 20th - The Sentence by Louise Erdrich\n\nOctober 18th - Blacktop Wasteland by S. A. Cosby\n\nNovember 15th - Once There Were Wolves by Charlotte McConaghy\n\nCopies of the monthly book club titles will be available for checkout at the Circulation Desk.
X-ALT-DESC;FMTTYPE=text/html:<p>Join Carol at the Library&nbsp\;for an insightful book discussion. Here&#39\;s what we&#39\;re reading this quarter:</p>\n\n<p><strong>September 20th</strong>&nbsp\;-&nbsp\;<em>The Sentence</em>&nbsp\;by Louise Erdrich</p>\n\n<p><strong>October 18th</strong>&nbsp\;-&nbsp\;<em>Blacktop Wasteland</em>&nbsp\;by S. A. Cosby</p>\n\n<p><strong>November 15th</strong>&nbsp\;-<em>&nbsp\;Once There Were Wolves</em>&nbsp\;by Charlotte McConaghy</p>\n\n<p>Copies of the monthly book club titles will be available for checkout at the Circulation Desk.</p>\n
LOCATION:Lake Bluff Public Library 123 E. Scranton Ave. Lake Bluff\, IL. 60044
UID:e.1126.22503
SEQUENCE:3
DTSTAMP:20260426T041014Z
URL:https://business.lflbchamber.com/events/details/afternoon-book-club-09-20-2022-22503
END:VEVENT

END:VCALENDAR
