BEGIN:VCALENDAR
VERSION:2.0
PRODID:-//ChamberMaster//Event Calendar 2.0//EN
METHOD:PUBLISH
X-PUBLISHED-TTL:P3D
REFRESH-INTERVAL:P3D
CALSCALE:GREGORIAN
BEGIN:VEVENT
DTSTART:20250520T193000Z
DTEND:20250520T203000Z
X-MICROSOFT-CDO-ALLDAYEVENT:FALSE
SUMMARY:Afternoon Book Club (Spring 2025)
DESCRIPTION:Join Carol at the Library for an insightful book discussion series:\n\nTuesday March 18th - The Eyes and the Impossible by Dave Eggers\n\nTuesday April 15th - Three Girls from Bronzeville by Dawn Turner\n\nTuesday May 20th -  Bewilderment by Richard Powers\n\nCopies of each book club title will be available for checkout at the Circulation Desk. Digital versions can be found on Libby or Hoopla.
X-ALT-DESC;FMTTYPE=text/html:<p>Join Carol at the Library&nbsp\;for an insightful book discussion series:</p>\n\n<p><strong>Tuesday March 18th</strong>&nbsp\;-&nbsp\;<em>The Eyes and the Impossible</em>&nbsp\;by Dave Eggers</p>\n\n<p><strong>Tuesday April 15th&nbsp\;</strong>-&nbsp\;<em>Three Girls from Bronzeville</em>&nbsp\;by Dawn Turner</p>\n\n<p><strong>Tuesday May 20th</strong>&nbsp\;-<em>&nbsp\; Bewilderment&nbsp\;</em>by Richard Powers</p>\n\n<p>Copies of each book club title will be available for checkout at the Circulation Desk. Digital versions can be found on Libby or Hoopla.</p>\n
LOCATION:Lake Bluff Public Library 123 E. Scranton Ave. Lake Bluff\, IL. 60044
UID:e.1126.29941
SEQUENCE:3
DTSTAMP:20260424T053436Z
URL:https://business.lflbchamber.com/events/details/afternoon-book-club-spring-2025-05-08-2025-29941
END:VEVENT

END:VCALENDAR
