BEGIN:VCALENDAR
VERSION:2.0
PRODID:-//ChamberMaster//Event Calendar 2.0//EN
METHOD:PUBLISH
X-PUBLISHED-TTL:P3D
REFRESH-INTERVAL:P3D
CALSCALE:GREGORIAN
BEGIN:VEVENT
DTSTART:20190612T203000Z
DTEND:20190612T213000Z
X-MICROSOFT-CDO-ALLDAYEVENT:FALSE
SUMMARY:Afternoon Movie
DESCRIPTION:Join us for an afternoon movie and popcorn. Wednesday\, 6/12 at 3:30pm Harry Potter and the Sorcerer's Stone Wednesday\, 7/10 at 3:30pm Mary Poppins Returns Wednesday\, 8/14 at 3:30pm The Descendants\n\n\n\nRegistration is not required.
X-ALT-DESC;FMTTYPE=text/html:<span style="color:rgb(0\, 0\, 0)\; font-family:arial\,sans-serif\; font-size:14.0085px">Join us for an afternoon movie and popcorn. Wednesday\, 6/12 at 3:30pm Harry Potter and the Sorcerer&rsquo\;s Stone Wednesday\, 7/10 at 3:30pm Mary Poppins Returns Wednesday\, 8/14 at 3:30pm The Descendants<br />\n<br />\nRegistration is not required.</span>
LOCATION:Lake Bluff Public Library 123 E. Scranton Ave. Lake Bluff\, IL 60044
UID:e.1126.17933
SEQUENCE:3
DTSTAMP:20260424T071437Z
URL:https://business.lflbchamber.com/events/details/afternoon-movie-17933
END:VEVENT

END:VCALENDAR
