BEGIN:VCALENDAR
VERSION:2.0
PRODID:-//ChamberMaster//Event Calendar 2.0//EN
METHOD:PUBLISH
X-PUBLISHED-TTL:P3D
REFRESH-INTERVAL:P3D
CALSCALE:GREGORIAN
BEGIN:VEVENT
DTSTART:20250417T170000Z
DTEND:20250417T181500Z
X-MICROSOFT-CDO-ALLDAYEVENT:FALSE
SUMMARY:Afternoons with Judy Levin: "Three Girls From Bronzeville"
DESCRIPTION:Register and join your friends and neighbors in person for a lively book discussion on Three Girls from Bronzeville by Dawn Turner.
X-ALT-DESC;FMTTYPE=text/html:<span style="font-family:gotham\,sans-serif\; font-size:14px">Register and join your friends and neighbors in person for a lively book discussion on&nbsp\;</span><em>Three Girls from Bronzeville&nbsp\;</em><span style="font-family:gotham\,sans-serif\; font-size:14px">by Dawn Turner.</span>
LOCATION:Lake Forest Library 360 E Deerpath Rd Lake Forest IL 60045
UID:e.1126.30352
SEQUENCE:3
DTSTAMP:20260424T041352Z
URL:https://business.lflbchamber.com/events/details/afternoons-with-judy-levin-three-girls-from-bronzeville-30352
END:VEVENT

END:VCALENDAR
