BEGIN:VCALENDAR
VERSION:2.0
PRODID:-//ChamberMaster//Event Calendar 2.0//EN
METHOD:PUBLISH
X-PUBLISHED-TTL:P3D
REFRESH-INTERVAL:P3D
CALSCALE:GREGORIAN
BEGIN:VEVENT
DTSTART:20210309T170000Z
DTEND:20210309T190000Z
X-MICROSOFT-CDO-ALLDAYEVENT:FALSE
SUMMARY:Aging Conversations with Elderwerks President Jennifer Prell
DESCRIPTION:Have a question\, concern\, or just need a little guidance? Join Jennifer in a safe environment using the same link every week. Stop in for a 15 minute chat to get your aging questions answered. Come & go as you wish. No registration is required. Enter Zoom Meeting ID: 996 2111 1446 or click the Zoom link to join. No passcode needed.
X-ALT-DESC;FMTTYPE=text/html:Have a question\, concern\, or just need a little guidance? Join Jennifer in a safe environment using the same link every week. Stop in for a 15 minute chat to get your aging questions answered. Come &amp\; go as you wish. No registration is required. Enter Zoom Meeting ID: 996 2111 1446 or click the Zoom link to join. No passcode needed.
LOCATION:Zoom
UID:e.1126.19933
SEQUENCE:3
DTSTAMP:20260425T214414Z
URL:https://business.lflbchamber.com/events/details/aging-conversations-with-elderwerks-president-jennifer-prell-19933
END:VEVENT

END:VCALENDAR
