BEGIN:VCALENDAR
VERSION:2.0
PRODID:-//ChamberMaster//Event Calendar 2.0//EN
METHOD:PUBLISH
X-PUBLISHED-TTL:P3D
REFRESH-INTERVAL:P3D
CALSCALE:GREGORIAN
BEGIN:VEVENT
DTSTART:20250612T233000Z
DTEND:20250613T010000Z
X-MICROSOFT-CDO-ALLDAYEVENT:FALSE
SUMMARY:AI Gold Rush: Learn To Unlock Profitable Growth With AI
DESCRIPTION:Explore real-world AI strategies to scale smarter\, boost profits and gain a competitive edge in today's evolving market.
X-ALT-DESC;FMTTYPE=text/html:<!--StartFragment--><span data-olk-copy-source="MessageBody" style="margin: 0px\;">Explore real-world AI strategies to scale smarter\, boost profits and gain a competitive edge in today&#39\;s evolving market.</span><!--EndFragment-->
LOCATION:Zoom
UID:e.1126.31368
SEQUENCE:3
DTSTAMP:20260424T083801Z
URL:https://business.lflbchamber.com/events/details/ai-gold-rush-learn-to-unlock-profitable-growth-with-ai-31368
END:VEVENT

END:VCALENDAR
