BEGIN:VCALENDAR
VERSION:2.0
PRODID:-//ChamberMaster//Event Calendar 2.0//EN
METHOD:PUBLISH
X-PUBLISHED-TTL:P3D
REFRESH-INTERVAL:P3D
CALSCALE:GREGORIAN
BEGIN:VEVENT
DTSTART:20250610T200000Z
DTEND:20250610T213000Z
X-MICROSOFT-CDO-ALLDAYEVENT:FALSE
SUMMARY:AI Powered Business: A Hands-On Experience
DESCRIPTION:In this dynamic\, hands-on webinar\, AI-Powered Business: Everyday Uses of ChatGPT & Tools to Save Time and Money\, Anthony Caldwell introduces practical ways to integrate AI into your daily life and business operations.\n\n \n\nAre you ready to save time\, reduce costs and take your business or career to the next level with AI?\n\n \n\nDesigned for entrepreneurs\, creatives\, educators and professionals\, this session demystifies artificial intelligence by walking you through how tools like ChatGPT\, DALL E and other popular AI platforms can be used to increase productivity\, reduce costs and spark innovation no technical background required.\n\n \n\nWhether you're just curious or ready to launch an AI-powered project\, this\n\nwebinar gives you the knowledge and tools to get started today.\n\n \n\nHere's What You Will Learn\n\n\n	What AI is and how it's changing the way we work and live\n	The difference between Generative\, Predictive and Conversational AI\n	Real-world applications of AI from design and content creation to customer service and decision-making\n	How to use ChatGPT: Free vs. Paid plans\n	What AI is and how to write effective prompts\n	How to interact casually with AI for personal and professional tasks\n	Tools to help start\, run\, and grow your business with AI\n	How Ai boosts productivity in design\, marketing\, and planning\n	Ethics and responsibilities when using AI\n	Common fears and concerns surrounding the future of AI\n	What's coming next\, Quantum Computing\, the new wave of technology\n	Bonus: Quick ideas on how to start making money using AI\n\n\n\n\n	\n		\n			\n			\n				\n					\n						\n						Meet Our Presenter ~ Anthony Caldwell\n						\n					\n				\n			\n			\n		\n	\n\n\n\n	\n		\n			\n			 \n			\n		\n	\n\n\n\n	\n		\n			\n			 \n			\n		\n	\n\n\n\n	\n		\n			\n			\n				\n					\n						\n						With 25+ years of hands-on experience at the intersection of technology\, creativity\, and education\, I specialize in designing digital transformation strategies for businesses and individuals ready to thrive in the AI era. From leading IT solutions for Fortune 500 companies to producing digital content for cable and social platforms\, my passion lies in integrating cutting-edge tools like generative AI\, cloud systems\, and VR/AR into practical solutions that scale.\n\n						 \n\n						I'm the Chief AI Strategist at QuantumTech Digital\, a consultancy that helps small businesses and educators harness AI\, digital marketing\, and immersive tech. I also teach\, mentor\, and consult across communities empowering future tech leaders through workshops\, curriculum design\, and real-world application. I'm also a Score Volunteer Mentoring small business achieve levels of success.
X-ALT-DESC;FMTTYPE=text/html:<p data-olk-copy-source="MessageBody" style="margin: 0px\; padding: 0px\; color: rgb(40\, 40\, 41)\; font-family: Lato\, sans-serif\; font-size: 16px\;">In this dynamic\, hands-on webinar\, AI-Powered Business: Everyday Uses of ChatGPT &amp\; Tools to Save Time and Money\, Anthony Caldwell introduces practical ways to integrate AI into your daily life and business operations.</p>\n\n<p style="margin: 0px\; padding: 0px\; color: rgb(40\, 40\, 41)\; font-family: Lato\, sans-serif\; font-size: 16px\;">&nbsp\;</p>\n\n<p style="margin: 0px\; padding: 0px\; color: rgb(40\, 40\, 41)\; font-family: Lato\, sans-serif\; font-size: 16px\;">Are you ready to save time\, reduce costs and take your business or career to the next level with AI?</p>\n\n<p style="margin: 0px\; padding: 0px\; color: rgb(40\, 40\, 41)\; font-family: Lato\, sans-serif\; font-size: 16px\;">&nbsp\;</p>\n\n<p style="margin: 0px\; padding: 0px\; color: rgb(40\, 40\, 41)\; font-family: Lato\, sans-serif\; font-size: 16px\;">Designed for entrepreneurs\, creatives\, educators and professionals\, this session demystifies artificial intelligence by walking you through how tools like ChatGPT\, DALL&middot\;E and other popular AI platforms can be used to increase productivity\, reduce costs and spark innovation&mdash\;no technical background required.</p>\n\n<p style="margin: 0px\; padding: 0px\; color: rgb(40\, 40\, 41)\; font-family: Lato\, sans-serif\; font-size: 16px\;">&nbsp\;</p>\n\n<p style="margin: 0px\; padding: 0px\; color: rgb(40\, 40\, 41)\; font-family: Lato\, sans-serif\; font-size: 16px\;">Whether you&#39\;re just curious or ready to launch an AI-powered project\, this</p>\n\n<p style="margin: 0px\; padding: 0px\; color: rgb(40\, 40\, 41)\; font-family: Lato\, sans-serif\; font-size: 16px\;">webinar gives you the knowledge and tools to get started today.</p>\n\n<p style="margin: 0px\; padding: 0px\; color: rgb(40\, 40\, 41)\; font-family: Lato\, sans-serif\; font-size: 16px\;">&nbsp\;</p>\n\n<p style="margin: 0px\; padding: 0px\; color: rgb(40\, 40\, 41)\; font-family: Lato\, sans-serif\; font-size: 16px\;">Here&rsquo\;s What You Will Learn</p>\n\n<ul style="padding-right: 0px\; padding-left: 0px\; margin: 0px 0px 0px 40px\; color: rgb(40\, 40\, 41)\; font-family: Lato\, sans-serif\; font-size: 16px\;">\n	<li style="padding: 0px\; margin: 0px\;">What AI is and how it&rsquo\;s changing the way we work and live</li>\n	<li style="padding: 0px\; margin: 0px\;">The difference between Generative\, Predictive and Conversational AI</li>\n	<li style="padding: 0px\; margin: 0px\;">Real-world applications of AI&mdash\;from design and content creation to customer service and decision-making</li>\n	<li style="padding: 0px\; margin: 0px\;">How to use ChatGPT: Free vs. Paid plans</li>\n	<li style="padding: 0px\; margin: 0px\;">What AI is and how to write effective prompts</li>\n	<li style="padding: 0px\; margin: 0px\;">How to interact casually with AI for personal and professional tasks</li>\n	<li style="padding: 0px\; margin: 0px\;">Tools to help start\, run\, and grow your business with AI</li>\n	<li style="padding: 0px\; margin: 0px\;">How Ai boosts productivity in design\, marketing\, and planning</li>\n	<li style="padding: 0px\; margin: 0px\;">Ethics and responsibilities when using AI</li>\n	<li style="padding: 0px\; margin: 0px\;">Common fears and concerns surrounding the future of AI</li>\n	<li style="padding: 0px\; margin: 0px\;">What&rsquo\;s coming next\, Quantum Computing\, the new wave of technology</li>\n	<li style="padding: 0px\; margin: 0px\;">Bonus: Quick ideas on how to start making money using AI</li>\n</ul>\n\n<div style="padding: 0px\; margin: 0px\;">\n<table bgcolor="#006eb7" border="0" cellpadding="0" cellspacing="0" class="x_layout x_layout--1-column" style="font-variant-numeric: inherit\; font-variant-east-asian: inherit\; font-variant-alternates: inherit\; font-variant-position: inherit\; font-variant-emoji: inherit\; font-stretch: inherit\; font-size: 15px\; line-height: inherit\; font-family: &quot\;Segoe UI&quot\;\, &quot\;Segoe UI Web (West European)&quot\;\, -apple-system\, BlinkMacSystemFont\, Roboto\, &quot\;Helvetica Neue&quot\;\, sans-serif\; font-optical-sizing: inherit\; font-size-adjust: inherit\; font-kerning: inherit\; font-feature-settings: inherit\; font-variation-settings: inherit\; table-layout: fixed\; min-width: 100%\; color: rgb(36\, 36\, 36)\; background-color: rgb(0\, 110\, 183) !important\;" width="100%">\n	<tbody>\n		<tr>\n			<td align="center" class="x_column x_column--1 x_scale x_stack" style="width: 600.014px\;" valign="top">\n			<table border="0" cellpadding="0" cellspacing="0" class="x_text x_text--padding-vertical" style="font: inherit\; table-layout: fixed\;" width="100%">\n				<tbody>\n					<tr>\n						<td align="left" class="x_text_content-cell x_content-padding-horizontal" style="font-family: Lato\, sans-serif\; font-size: 16px\; line-height: 1.2\; display: block\; overflow-wrap: break-word\; padding: 10px 20px\; color: rgb(40\, 40\, 41) !important\;" valign="top">\n						<p align="center" style="margin: 0px\; padding: 0px\; text-align: center\;"><span data-olk-copy-source="MessageBody" style="border: 0px\; font-style: inherit\; font-variant: inherit\; font-weight: inherit\; font-stretch: inherit\; font-size: 28px\; line-height: inherit\; font-family: inherit\; font-optical-sizing: inherit\; font-size-adjust: inherit\; font-kerning: inherit\; font-feature-settings: inherit\; font-variation-settings: inherit\; margin: 0px\; padding: 0px\; vertical-align: baseline\; color: rgb(255\, 255\, 255) !important\;">Meet Our Presenter ~ Anthony Caldwell</span></p>\n						</td>\n					</tr>\n				</tbody>\n			</table>\n			</td>\n		</tr>\n	</tbody>\n</table>\n\n<table border="0" cellpadding="0" cellspacing="0" class="x_layout x_layout--1-column" style="font-variant-numeric: inherit\; font-variant-east-asian: inherit\; font-variant-alternates: inherit\; font-variant-position: inherit\; font-variant-emoji: inherit\; font-stretch: inherit\; font-size: 15px\; line-height: inherit\; font-family: &quot\;Segoe UI&quot\;\, &quot\;Segoe UI Web (West European)&quot\;\, -apple-system\, BlinkMacSystemFont\, Roboto\, &quot\;Helvetica Neue&quot\;\, sans-serif\; font-optical-sizing: inherit\; font-size-adjust: inherit\; font-kerning: inherit\; font-feature-settings: inherit\; font-variation-settings: inherit\; table-layout: fixed\; min-width: 100%\; color: rgb(36\, 36\, 36)\;" width="100%">\n	<tbody>\n		<tr>\n			<td align="center" class="x_column x_column--1 x_scale x_stack" style="width: 600.014px\;" valign="top">\n			<div class="x_spacer" style="border: 0px\; font-style: inherit\; font-variant: inherit\; font-weight: inherit\; font-stretch: inherit\; font-size: inherit\; line-height: 10px\; font-family: inherit\; font-optical-sizing: inherit\; font-size-adjust: inherit\; font-kerning: inherit\; font-feature-settings: inherit\; font-variation-settings: inherit\; margin: 0px\; padding: 0px\; vertical-align: baseline\; color: inherit\; height: 10px\;">&#8202\;</div>\n			</td>\n		</tr>\n	</tbody>\n</table>\n\n<table bgcolor="#f0f5f9" border="0" cellpadding="0" cellspacing="0" class="x_layout x_layout--1-column" style="font-variant-numeric: inherit\; font-variant-east-asian: inherit\; font-variant-alternates: inherit\; font-variant-position: inherit\; font-variant-emoji: inherit\; font-stretch: inherit\; font-size: 15px\; line-height: inherit\; font-family: &quot\;Segoe UI&quot\;\, &quot\;Segoe UI Web (West European)&quot\;\, -apple-system\, BlinkMacSystemFont\, Roboto\, &quot\;Helvetica Neue&quot\;\, sans-serif\; font-optical-sizing: inherit\; font-size-adjust: inherit\; font-kerning: inherit\; font-feature-settings: inherit\; font-variation-settings: inherit\; table-layout: fixed\; min-width: 100%\; color: rgb(36\, 36\, 36)\; background-color: rgb(240\, 245\, 249) !important\;" width="100%">\n	<tbody>\n		<tr>\n			<td align="center" class="x_column x_column--1 x_scale x_stack" style="width: 600.014px\;" valign="top">\n			<div class="x_spacer" style="border: 0px\; font-style: inherit\; font-variant: inherit\; font-weight: inherit\; font-stretch: inherit\; font-size: inherit\; line-height: 10px\; font-family: inherit\; font-optical-sizing: inherit\; font-size-adjust: inherit\; font-kerning: inherit\; font-feature-settings: inherit\; font-variation-settings: inherit\; margin: 0px\; padding: 0px\; vertical-align: baseline\; color: inherit\; height: 10px\;">&#8202\;</div>\n			</td>\n		</tr>\n	</tbody>\n</table>\n\n<table border="0" cellpadding="0" cellspacing="0" class="x_layout x_layout--2-column" style="font-variant-numeric: inherit\; font-variant-east-asian: inherit\; font-variant-alternates: inherit\; font-variant-position: inherit\; font-variant-emoji: inherit\; font-stretch: inherit\; font-size: 15px\; line-height: inherit\; font-family: &quot\;Segoe UI&quot\;\, &quot\;Segoe UI Web (West European)&quot\;\, -apple-system\, BlinkMacSystemFont\, Roboto\, &quot\;Helvetica Neue&quot\;\, sans-serif\; font-optical-sizing: inherit\; font-size-adjust: inherit\; font-kerning: inherit\; font-feature-settings: inherit\; font-variation-settings: inherit\; table-layout: fixed\; min-width: 100%\; color: rgb(36\, 36\, 36)\;" width="100%">\n	<tbody>\n		<tr>\n			<td align="center" class="x_column x_column--1 x_scale x_stack" style="width: 300px\;" valign="top">\n			<table border="0" cellpadding="0" cellspacing="0" class="x_text x_text--padding-vertical" style="font: inherit\; table-layout: fixed\;" width="100%">\n				<tbody>\n					<tr>\n						<td align="left" class="x_text_content-cell x_content-padding-horizontal" style="font-family: Lato\, sans-serif\; font-size: 16px\; line-height: 1.2\; display: block\; overflow-wrap: break-word\; padding: 10px 10px 10px 20px\; color: rgb(40\, 40\, 41) !important\;" valign="top">\n						<p style="margin: 0px\; padding: 0px\;">With 25+ years of hands-on experience at the intersection of technology\, creativity\, and education\, I specialize in designing digital transformation strategies for businesses and individuals ready to thrive in the AI era. From leading IT solutions for Fortune 500 companies to producing digital content for cable and social platforms\, my passion lies in integrating cutting-edge tools&mdash\;like generative AI\, cloud systems\, and VR/AR&mdash\;into practical solutions that scale.</p>\n\n						<p style="margin: 0px\; padding: 0px\;">&nbsp\;</p>\n\n						<p style="margin: 0px\; padding: 0px\;">I&rsquo\;m the Chief AI Strategist at QuantumTech Digital\, a consultancy that helps small businesses and educators harness AI\, digital marketing\, and immersive tech. I also teach\, mentor\, and consult across communities&mdash\;empowering future tech leaders through workshops\, curriculum design\, and real-world application. I&rsquo\;m also a Score Volunteer Mentoring small business achieve levels of success.</p>\n						</td>\n					</tr>\n				</tbody>\n			</table>\n			</td>\n		</tr>\n	</tbody>\n</table>\n</div>\n
LOCATION:Zoom
UID:e.1126.31410
SEQUENCE:3
DTSTAMP:20260424T080901Z
URL:https://business.lflbchamber.com/events/details/ai-powered-business-a-hands-on-experience-31410
END:VEVENT

END:VCALENDAR
