BEGIN:VCALENDAR
VERSION:2.0
PRODID:-//ChamberMaster//Event Calendar 2.0//EN
METHOD:PUBLISH
X-PUBLISHED-TTL:P3D
REFRESH-INTERVAL:P3D
CALSCALE:GREGORIAN
BEGIN:VEVENT
DTSTART:20260424T233000Z
DTEND:20260425T013000Z
X-MICROSOFT-CDO-ALLDAYEVENT:FALSE
SUMMARY:An Evening with Margaret Renkl
DESCRIPTION:Register and join Lake Forest and Lake Bluff libraries in person\, off-site at the History Center (509 E Deerpath Rd) as we present author Margaret Renkl in conversation with Laura Calvert\, Executive Director at Elawa Farm. They will discuss Ms. Renkl's book\, The Comfort of Crows: A Backyard Year.\n\n6:30 pm: Refreshments\n\n7:00 pm: Author interview followed by a book signing
X-ALT-DESC;FMTTYPE=text/html:<div>\n<p>Register and join Lake Forest and Lake Bluff libraries in person\, off-site at the History Center (509 E Deerpath Rd) as we present author Margaret Renkl in conversation with Laura Calvert\, Executive Director at Elawa Farm. They will discuss Ms. Renkl&#39\;s book\,&nbsp\;<em>The Comfort of Crows: A Backyard Year</em>.</p>\n\n<p>6:30 pm: Refreshments</p>\n\n<p>7:00 pm: Author interview followed by a book signing</p>\n</div>\n\n<div>\n<div>&nbsp\;</div>\n</div>\n
LOCATION:The History Center of Lake Forest-Lake Bluff 509 E Deerpath Rd Lake Forest IL 60045
UID:e.1126.33886
SEQUENCE:3
DTSTAMP:20260425T220757Z
URL:https://business.lflbchamber.com/events/details/an-evening-with-margaret-renkl-33886
END:VEVENT

END:VCALENDAR
