BEGIN:VCALENDAR
VERSION:2.0
PRODID:-//ChamberMaster//Event Calendar 2.0//EN
METHOD:PUBLISH
X-PUBLISHED-TTL:P3D
REFRESH-INTERVAL:P3D
CALSCALE:GREGORIAN
BEGIN:VEVENT
DTSTART;VALUE=DATE:20220915
DTEND;VALUE=DATE:20220919
TRANSP:TRANSPARENT
X-MICROSOFT-CDO-ALLDAYEVENT:TRUE
SUMMARY:Annual Book Sale by the Friends of Lake Forest Library
DESCRIPTION:Come browse and purchase a wide selection of gently-used\, bargain-priced books\, audiobooks\, and more! Organized by the Friends of Lake Forest Library.\n\n\n\nSeptember 15\, 9:00 am 4:00 pm\n\nMember Preview\, 20% markup\, memberships available at the door\n\n\n\nSeptember 16\, 9:00 am 8:00 pm\n\n\n\nSeptember 17\, 9:00 am 4:00 pm\n\nTeachers get 25% off\n\n\n\nSeptember 18\, 9:00 am 4:00 pm\n\nBargain Day\, everything 50% off
X-ALT-DESC;FMTTYPE=text/html:Come browse and purchase a wide selection of gently-used\, bargain-priced books\, audiobooks\, and more! Organized by the Friends of Lake Forest Library.<br />\n<br />\nSeptember 15\, 9:00 am&ndash\;4:00 pm<br />\nMember Preview\, 20% markup\, memberships available at the door<br />\n<br />\nSeptember 16\, 9:00 am&ndash\;8:00 pm<br />\n<br />\nSeptember 17\, 9:00 am&ndash\;4:00 pm<br />\nTeachers get 25% off<br />\n<br />\nSeptember 18\, 9:00 am&ndash\;4:00 pm<br />\nBargain Day\, everything 50% off
LOCATION:Lake Forest Rec Center 400 Hastings Rd Lake Forest IL 60045
UID:e.1126.22343
SEQUENCE:3
DTSTAMP:20260426T041101Z
URL:https://business.lflbchamber.com/events/details/annual-book-sale-by-the-friends-of-lake-forest-library-22343
END:VEVENT

END:VCALENDAR
