BEGIN:VCALENDAR
VERSION:2.0
PRODID:-//ChamberMaster//Event Calendar 2.0//EN
METHOD:PUBLISH
X-PUBLISHED-TTL:P3D
REFRESH-INTERVAL:P3D
CALSCALE:GREGORIAN
BEGIN:VEVENT
DTSTART:20190718T163000Z
DTEND:20190718T180000Z
X-MICROSOFT-CDO-ALLDAYEVENT:FALSE
SUMMARY:Annual Chamber 'Luncheon with the Mayors'
DESCRIPTION:What's going on in Lake Forest and Lake Bluff?\n\n\n\nJoin us to hear the latest on each town's projects and plans with time allotted for audience questions.  Our special guest speakers will be Lake Bluff Village President Kathy O'Hara and new Lake Forest Mayor George Pandaleon.\n\n\n\nDeer Path Inn\, 225 E. Illinois Road\, Lake Forest\n\nAdmission: $35 if purchased prior to July 10\; $40 after\n\n\n\nEveryone Welcome!
X-ALT-DESC;FMTTYPE=text/html:<div style="text-align: center\;"><br>\n<span style="font-size:16px\;"><span style="font-family:arial\;"><span style="color:#008000\;"><span style="font-size:24px\;"><strong>What's going on in Lake Forest and Lake Bluff?</strong></span></span><br>\n<br>\nJoin us to hear the latest on each town's projects and plans with time allotted for audience questions. &nbsp\;Our special guest speakers will be Lake Bluff Village President Kathy O'Hara and new Lake Forest Mayor George Pandaleon.<br>\n<br>\nDeer Path Inn\, 225 E. Illinois Road\, Lake Forest<br>\nAdmission: $35 if purchased prior to July 10\;&nbsp\;</span></span><span style="font-size:16px\;"><span style="font-family:arial\;">$40 after</span></span></div>\n\n<div style="text-align: center\;"><br>\n<span style="font-size:16px\;"><span style="font-family:arial\;">Everyone Welcome!</span></span></div>\n
LOCATION:Deer Path Inn 255 E. Illinois Rd. Lake Forest\, IL 60045
UID:e.1126.10091
SEQUENCE:3
DTSTAMP:20260424T055419Z
URL:https://business.lflbchamber.com/events/details/annual-chamber-luncheon-with-the-mayors-10091
END:VEVENT

END:VCALENDAR
