BEGIN:VCALENDAR
VERSION:2.0
PRODID:-//ChamberMaster//Event Calendar 2.0//EN
METHOD:PUBLISH
X-PUBLISHED-TTL:P3D
REFRESH-INTERVAL:P3D
CALSCALE:GREGORIAN
BEGIN:VEVENT
DTSTART:20260512T160000Z
DTEND:20260512T170000Z
X-MICROSOFT-CDO-ALLDAYEVENT:FALSE
SUMMARY:Apple Photos
DESCRIPTION:Learn how to organize and share photos on your Apple device to help you find them when you need them.
X-ALT-DESC;FMTTYPE=text/html:<span style="background-color:rgb(255\, 255\, 255)\; color:rgb(51\, 51\, 51)\; font-family:arial\,helvetica\,verdana\; font-size:14px">Learn how to organize and share photos on your Apple device to help you find them when you need them.</span>
LOCATION:Lake Bluff Public Library 123 E. Scranton Ave. Lake Bluff\, IL. 60044
UID:e.1126.33858
SEQUENCE:3
DTSTAMP:20260424T235703Z
URL:https://business.lflbchamber.com/events/details/apple-photos-33858
END:VEVENT

END:VCALENDAR
