BEGIN:VCALENDAR
VERSION:2.0
PRODID:-//ChamberMaster//Event Calendar 2.0//EN
METHOD:PUBLISH
X-PUBLISHED-TTL:P3D
REFRESH-INTERVAL:P3D
CALSCALE:GREGORIAN
BEGIN:VEVENT
DTSTART:20250503T190000Z
DTEND:20250503T200000Z
X-MICROSOFT-CDO-ALLDAYEVENT:FALSE
SUMMARY:Art and Adventures with Author Dan Santat (Illinois Libraries Present - Online Program)
DESCRIPTION:Dan Santat is the author and illustrator of over a hundred books for young people. Many of his books are New York Times-bestsellers\, including The Adventures of Beekle: The Unimaginary Friend\, Are We There Yet?\, and After the Fall (How Humpty Dumpty Got Back Up Again). His latest works include the best-selling graphic novels\, The Aquanaut and A First Time for Everything.\n\nRegistration is required. Please visit the ILP Registration page to register for this event.\n\nThis event will be recorded and available for 60 days after the event. You must register for the event in order to receive access to the recording.\n\nThis event is made possible by Illinois Libraries Present (ILP)\, a statewide collaboration among public libraries offering premier events. ILP is funded in part by a grant awarded by the Illinois State Library\, a department of the Office of Secretary of State\, using funds provided by the U.S. Institute of Museum and Library Services\, under the provisions of the Library Services and Technology Act (LSTA). \n\nILP is committed to inclusion and accessibility. To request accommodations\, please email illinoislibrariespresent@gmail.com
X-ALT-DESC;FMTTYPE=text/html:<p>Dan Santat is the author and illustrator of over a hundred books for young people. Many of his books are&nbsp\;<em>New York Times</em>-bestsellers\, including&nbsp\;<em>The Adventures of Beekle: The Unimaginary Friend</em>\,&nbsp\;<em>Are We There Yet?</em>\, and&nbsp\;<em>After the Fall (How Humpty Dumpty Got Back Up Again)</em>. His latest works include the best-selling graphic novels\,&nbsp\;<em>The Aquanaut</em>&nbsp\;and&nbsp\;<em>A First Time for Everything</em>.</p>\n\n<p>Registration is required. Please visit the&nbsp\;<a href="https://bit.ly/ILP_DanSantat" style="box-sizing: border-box\; background-color: transparent\; color: rgb(41\, 84\, 209)\; text-decoration-line: none\;">ILP Registration page</a>&nbsp\;to register for this event.</p>\n\n<p>This event will be recorded and available for 60 days after the event.&nbsp\;<u>You must register for the event in order to receive access to the recording.</u></p>\n\n<p><em>This event is made possible by Illinois Libraries Present (ILP)\, a statewide collaboration among public libraries offering premier events. ILP is funded in part by a grant awarded by the Illinois State Library\, a department of the Office of Secretary of State\, using funds provided by the U.S. Institute of Museum and Library Services\, under the provisions of the Library Services and Technology Act (LSTA).&nbsp\;</em></p>\n\n<p><em>ILP is committed to inclusion and accessibility. To request accommodations\, please email&nbsp\;<a href="mailto:illinoislibrariespresent@gmail.com" style="box-sizing: border-box\; background-color: transparent\; color: rgb(41\, 84\, 209)\; text-decoration-line: none\;">illinoislibrariespresent@gmail.com</a></em></p>\n
LOCATION:Lake Bluff Public Library 123 E. Scranton Ave. Lake Bluff\, IL. 60044
UID:e.1126.29993
SEQUENCE:3
DTSTAMP:20260424T053222Z
URL:https://business.lflbchamber.com/events/details/art-and-adventures-with-author-dan-santat-online-program-29993
END:VEVENT

END:VCALENDAR
