BEGIN:VCALENDAR
VERSION:2.0
PRODID:-//ChamberMaster//Event Calendar 2.0//EN
METHOD:PUBLISH
X-PUBLISHED-TTL:P3D
REFRESH-INTERVAL:P3D
CALSCALE:GREGORIAN
BEGIN:VEVENT
DTSTART:20220928T210000Z
DTEND:20220928T220000Z
X-MICROSOFT-CDO-ALLDAYEVENT:FALSE
SUMMARY:Art for All Ages
DESCRIPTION:Ages 8 and up.\n\nSeptember 28th at 4pm - Tye Dyeing (*Bring a single item to dye made of natural fiber such as cotton\, wool\, or silk*)\n\nOctober 26th at 4pm & 4:30pm - Halloween Slime\n\nThese fun and easy workshops are designed for everyone ages 8 and up with any level of experience. Each workshop\, participants will learn a new technique and take a unique art project home. Materials provided except where indicated.
X-ALT-DESC;FMTTYPE=text/html:<p>Ages 8 and up.</p>\n\n<p><strong>September 28th at 4pm</strong>&nbsp\;- Tye Dyeing (*Bring a single item to dye made of natural fiber such as cotton\, wool\, or silk*)</p>\n\n<p><strong>October 26th at 4pm &amp\; 4:30pm</strong>&nbsp\;- Halloween Slime</p>\n\n<p>These fun and easy workshops are designed for everyone ages 8 and up with any level of experience. Each workshop\, participants will learn a new technique and take a unique art project home. Materials provided except where indicated.</p>\n
LOCATION:Lake Bluff Public Library 123 E. Scranton Ave. Lake Bluff\, IL. 60044
UID:e.1126.22512
SEQUENCE:3
DTSTAMP:20260426T040933Z
URL:https://business.lflbchamber.com/events/details/art-for-all-ages-09-28-2022-22512
END:VEVENT

END:VCALENDAR
