BEGIN:VCALENDAR
VERSION:2.0
PRODID:-//ChamberMaster//Event Calendar 2.0//EN
METHOD:PUBLISH
X-PUBLISHED-TTL:P3D
REFRESH-INTERVAL:P3D
CALSCALE:GREGORIAN
BEGIN:VEVENT
DTSTART:20240701T200000Z
DTEND:20240701T204500Z
X-MICROSOFT-CDO-ALLDAYEVENT:FALSE
SUMMARY:Art & Magic with Ben's Bubble Show
DESCRIPTION:Join us for a bubble show full of magic and sculptures!
X-ALT-DESC;FMTTYPE=text/html:<span style="color:rgb(0\, 0\, 0)\; font-family:calibri\,helvetica\,sans-serif\; font-size:14.6667px">Join us for a bubble show full of magic and sculptures!</span>
LOCATION:Lake Forest Library\, 360 E Deerpath Rd\, Lake Forest\, IL 60045
UID:e.1126.27277
SEQUENCE:3
DTSTAMP:20260423T205442Z
URL:https://business.lflbchamber.com/events/details/art-magic-with-ben-s-bubble-show-27277
END:VEVENT

END:VCALENDAR
