BEGIN:VCALENDAR
VERSION:2.0
PRODID:-//ChamberMaster//Event Calendar 2.0//EN
METHOD:PUBLISH
X-PUBLISHED-TTL:P3D
REFRESH-INTERVAL:P3D
CALSCALE:GREGORIAN
BEGIN:VEVENT
DTSTART;VALUE=DATE:20210327
DTEND;VALUE=DATE:20210328
TRANSP:TRANSPARENT
X-MICROSOFT-CDO-ALLDAYEVENT:TRUE
SUMMARY:Art-Pop Easter Hop - bonnets\, Baskets and Baubles on Parade
DESCRIPTION:SATURDAY\, MARCH 27\, 2021 AT 9 AM CDT   5 PM CDT Art Pop Easter Hop - Bonnets\, Baskets and Baubles on Parade Art Pop 264 Market Square\, Lake Forest\, IL Event by Art Pop and Veronica Chin Art Pop 264 Market Square\, Lake Forest\, IL Saturday\, March 27\, 2021 at 9 AM CDT   5 PM CDT Price: Free   Duration: 8 hr Looking for a special bonnet to finish your Easter ensemble or perhaps a special piece of jewelry? Looking for a special bonnet to finish your Easter ensemble or perhaps a special piece of jewelry?How about a forever Easter basket for that special someone in your life? Art Pop has handmade Bonnets\, Baskets and Baubles and is inviting you to join us for shopping\, games and prizes. Join us between the hours of 9 a.m. to 5 p.m. to try on hats and jewelry\, play a game and maybe you'll get a discount or two. Check out the artwork of 30 talented\, local artists and take home a new piece of original artwork. There is much to see at Art Pop.
X-ALT-DESC;FMTTYPE=text/html:SATURDAY\, MARCH 27\, 2021 AT 9 AM CDT &ndash\; 5 PM CDT Art Pop Easter Hop - Bonnets\, Baskets and Baubles on Parade Art Pop 264 Market Square\, Lake Forest\, IL Event by Art Pop and Veronica Chin Art Pop 264 Market Square\, Lake Forest\, IL Saturday\, March 27\, 2021 at 9 AM CDT &ndash\; 5 PM CDT Price: Free &middot\; Duration: 8 hr Looking for a special bonnet to finish your Easter ensemble or perhaps a special piece of jewelry? Looking for a special bonnet to finish your Easter ensemble or perhaps a special piece of jewelry?How about a forever Easter basket for that special someone in your life? Art Pop has handmade Bonnets\, Baskets and Baubles and is inviting you to join us for shopping\, games and prizes. Join us between the hours of 9 a.m. to 5 p.m. to try on hats and jewelry\, play a game and maybe you&#39\;ll get a discount or two. Check out the artwork of 30 talented\, local artists and take home a new piece of original artwork. There is much to see at Art Pop.
LOCATION:264 Market Square
UID:e.1126.19954
SEQUENCE:3
DTSTAMP:20260425T214549Z
URL:https://business.lflbchamber.com/events/details/art-pop-easter-hop-bonnets-baskets-and-baubles-on-parade-19954
END:VEVENT

END:VCALENDAR
