BEGIN:VCALENDAR
VERSION:2.0
PRODID:-//ChamberMaster//Event Calendar 2.0//EN
METHOD:PUBLISH
X-PUBLISHED-TTL:P3D
REFRESH-INTERVAL:P3D
CALSCALE:GREGORIAN
BEGIN:VEVENT
DTSTART:20190615T150000Z
DTEND:20190616T220000Z
X-MICROSOFT-CDO-ALLDAYEVENT:FALSE
SUMMARY:Artists on the Bluff Arts Festival
DESCRIPTION:The 19th annual Artists on the Bluff 2019 Summer Arts Festival is an independent outdoor art show highlighting local artists. Held on June 15 & 16\, with live entertainment\, food\, and a children's crafts tent\, it will be a lively community event.
X-ALT-DESC;FMTTYPE=text/html:The 19th annual Artists on the Bluff 2019 Summer Arts Festival is an independent outdoor art show highlighting local artists. Held on June 15 &amp\; 16\, with live entertainment\, food\, and a children&#39\;s crafts tent\, it will be a lively community event.
LOCATION:Village Green in Lake Bluff
UID:e.1126.17811
SEQUENCE:3
DTSTAMP:20260424T072006Z
URL:https://business.lflbchamber.com/events/details/artists-on-the-bluff-arts-festival-17811
END:VEVENT

END:VCALENDAR
