BEGIN:VCALENDAR
VERSION:2.0
PRODID:-//ChamberMaster//Event Calendar 2.0//EN
METHOD:PUBLISH
X-PUBLISHED-TTL:P3D
REFRESH-INTERVAL:P3D
CALSCALE:GREGORIAN
BEGIN:VEVENT
DTSTART:20201112T160000Z
DTEND:20201112T170000Z
X-MICROSOFT-CDO-ALLDAYEVENT:FALSE
SUMMARY:Ask a Nurse: Beating the Holiday Blues
DESCRIPTION:On the second Thursday of each month\, Elderwerks will be sponsoring an "Ask the Nurse" series on a variety of topics. In November\, Chris will talk about stress and the holidays\, how the food we eat can impact our well-being\, the pressure to attend a holiday function\, how to relax and enjoy! This Zoom meeting is not providing medical advice. It is for informational purposes only. There is no cost to join the conversation. To receive the Zoom link to join\, please email events@elderwerks.org or call 847-462-0885.
X-ALT-DESC;FMTTYPE=text/html:On the second Thursday of each month\, Elderwerks will be sponsoring an &quot\;Ask the Nurse&quot\; series on a variety of topics. In November\, Chris will talk about stress and the holidays\, how the food we eat can impact our well-being\, the pressure to attend a holiday function\, how to relax and enjoy! This Zoom meeting is not providing medical advice. It is for informational purposes only. There is no cost to join the conversation. To receive the Zoom link to join\, please email events@elderwerks.org or call 847-462-0885.
LOCATION:Zoom
UID:e.1126.19679
SEQUENCE:3
DTSTAMP:20260425T155929Z
URL:https://business.lflbchamber.com/events/details/ask-a-nurse-beating-the-holiday-blues-19679
END:VEVENT

END:VCALENDAR
