BEGIN:VCALENDAR
VERSION:2.0
PRODID:-//ChamberMaster//Event Calendar 2.0//EN
METHOD:PUBLISH
X-PUBLISHED-TTL:P3D
REFRESH-INTERVAL:P3D
CALSCALE:GREGORIAN
BEGIN:VEVENT
DTSTART:20190308T010000Z
DTEND:20190308T020000Z
X-MICROSOFT-CDO-ALLDAYEVENT:FALSE
SUMMARY:Attracting Songbirds to Your Garden
DESCRIPTION:Tim Joyce of Birds Unlimited discusses various strategies for feeding the birds (not the squirrels). He will be talking about choosing the correct birdseed and the right kind of birdhouse\, along with a few landscaping tips.\n\n\n\nRegistration is not required\; however\, we always recommend registering so that we can ensure we have enough seats and that the room is adequately setup. Program registrants can opt to receive a reminder email 3 days before the start of the program.
X-ALT-DESC;FMTTYPE=text/html:<br />\nTim Joyce of Birds Unlimited discusses various strategies for feeding the birds (not the squirrels). He will be talking about choosing the correct birdseed and the right kind of birdhouse\, along with a few landscaping tips.<br />\n<br />\nRegistration is not required\; however\, we always recommend registering so that we can ensure we have enough seats and that the room is adequately setup. Program registrants can opt to receive a reminder email 3 days before the start of the program.
LOCATION:Lake Bluff Public Library 123 E Scranton Ave.\, Lake Bluff\, IL 60044
UID:e.1126.17615
SEQUENCE:3
DTSTAMP:20260424T100621Z
URL:https://business.lflbchamber.com/events/details/attracting-songbirds-to-your-garden-17615
END:VEVENT

END:VCALENDAR
