BEGIN:VCALENDAR
VERSION:2.0
PRODID:-//ChamberMaster//Event Calendar 2.0//EN
METHOD:PUBLISH
X-PUBLISHED-TTL:P3D
REFRESH-INTERVAL:P3D
CALSCALE:GREGORIAN
BEGIN:VEVENT
DTSTART:20190424T230000Z
DTEND:20190425T000000Z
X-MICROSOFT-CDO-ALLDAYEVENT:FALSE
SUMMARY:Author Andrew Ridker at Lake Forest Book Store
DESCRIPTION:Join us as we welcome Andrew Ridker for discussion and signing of his first novel.\n\nTHE ALTRUISTS\n\n \n\nWednesday\, April 24\, 2019 at 6:00 PM\n\nBooks available for purchase and signing\n\nRefreshments will be served\n\nRegister at 847-234-4420\n\nArthur Alter is in trouble. A middling professor at a Midwestern college\, he can't afford his mortgage\, he's exasperated his much-younger girlfriend\, and his kids won't speak to him. And then there's the money--the small fortune his late wife\, Francine\, kept secret\, which she bequeathed directly to his children. Those children are Ethan\, an anxious recluse living off his mother's money on a choice plot of Brooklyn real estate\, and Maggie\, a would-be do-gooder trying to fashion herself a noble life of self-imposed poverty. On the verge of losing the family home\, Arthur invites his children back to St. Louis under the guise of a reconciliation. But in doing so\, he unwittingly unleashes a Pandora's box of age-old resentments and long-buried memories--memories that orbit Francine\, the matriarch whose life may hold the key to keeping them together. Spanning New York\, Paris\, Boston\, St. Louis\, and a small desert outpost in Zimbabwe\, The Altruists is a darkly funny (and ultimately tender) family saga that confronts the divide between baby boomers and their millennial offspring. It's a novel about money\, privilege\, politics\, campus culture\, dating\, talk therapy\, rural sanitation\, infidelity\, kink\, the American beer industry\, and what it means to be a "good person."\n\nAndrew Ridker was born in 1991. His writing has appeared in The New York Times Magazine\, The Paris Review Daily\, Guernica\, Boston Review\, The Believer\, and St. Louis Magazine\; and he is the editor of Privacy Policy: The Anthology of Surveillance Poetics. He is the recipient of an Iowa Arts Fellowship from the Iowa Writers' Workshop. The Altruists is his first novel.
X-ALT-DESC;FMTTYPE=text/html:<p><strong>Join us as we welcome&nbsp\;Andrew Ridker for discussion and signing of his first novel.</strong></p>\n\n<div><strong>THE ALTRUISTS</strong><br />\n&nbsp\;</div>\n\n<div><strong>Wednesday\, April 24\, 2019 at 6:00 PM</strong></div>\n\n<p><strong>Books available for purchase and signing</strong></p>\n\n<p><strong>Refreshments will be served</strong></p>\n\n<p><strong>Register at 847-234-4420</strong></p>\n\n<p><strong>Arthur Alter is in trouble. A middling professor at a Midwestern college\, he can&#39\;t afford his mortgage\, he&#39\;s exasperated his much-younger girlfriend\, and his kids won&#39\;t speak to him. And then there&#39\;s the money--the small fortune his late wife\, Francine\, kept secret\, which she bequeathed directly to his children.&nbsp\;Those children are Ethan\, an anxious recluse living off his mother&#39\;s money on a choice plot of Brooklyn real estate\, and Maggie\, a would-be do-gooder trying to fashion herself a noble life of self-imposed poverty. On the verge of losing the family home\, Arthur invites his children back to St. Louis under the guise of a reconciliation. But in doing so\, he unwittingly unleashes a Pandora&#39\;s box of age-old resentments and long-buried memories--memories that orbit Francine\, the matriarch whose life may hold the key to keeping them together.&nbsp\;Spanning New York\, Paris\, Boston\, St. Louis\, and a small desert outpost in Zimbabwe\,&nbsp\;<em>The Altruists</em>&nbsp\;is a darkly funny (and ultimately tender) family saga that confronts the divide between baby boomers and their millennial offspring. It&#39\;s a novel about money\, privilege\, politics\, campus culture\, dating\, talk therapy\, rural sanitation\, infidelity\, kink\, the American beer industry\, and what it means to be a &quot\;good person.&quot\;</strong></p>\n\n<p>Andrew Ridker was born in 1991. His writing has appeared in&nbsp\;<em>The New York Times Magazine\, The Paris Review Daily\, Guernica\, Boston Review\, The Believer\,&nbsp\;</em>and&nbsp\;<em>St. Louis Magazine</em>\; and he is the editor of&nbsp\;<em>Privacy Policy: The Anthology of Surveillance Poetics</em>. He is the recipient of an Iowa Arts Fellowship from the Iowa Writers&#39\; Workshop.&nbsp\;<em>The Altruists</em>&nbsp\;is his first novel.</p>\n
LOCATION:Lake Forest Book Store 662 N. Western Ave Lake Forest\, IL 60045
UID:e.1126.17668
SEQUENCE:3
DTSTAMP:20260424T100538Z
URL:https://business.lflbchamber.com/events/details/author-andrew-ridker-at-lake-forest-book-store-17668
END:VEVENT

END:VCALENDAR
