BEGIN:VCALENDAR
VERSION:2.0
PRODID:-//ChamberMaster//Event Calendar 2.0//EN
METHOD:PUBLISH
X-PUBLISHED-TTL:P3D
REFRESH-INTERVAL:P3D
CALSCALE:GREGORIAN
BEGIN:VEVENT
DTSTART:20190309T000000Z
DTEND:20190309T010000Z
X-MICROSOFT-CDO-ALLDAYEVENT:FALSE
SUMMARY:Author Event - Annie Ward discusses new book "Beautiful Bad"
DESCRIPTION:Lake Forest Book Store welcomes author/screenplay writer Annie Ward as she presents her new mystery novel.\n\nBEAUTIFUL BAD\n\n \n\nFriday\, March 8th at 6:00 PM\n\nat Lake Forest Book Store\n\nBooks Available for purchase and signing\n\nRefreshments will be served.\n\nRegister at 847-234-4420\n\n \n\nA devoted wife\, a loving husband and a chilling murder that no one saw coming. Things that make me scared: When Charlie cries. Hospitals and lakes. When Ian drinks vodka in the basement. ISIS. When Ian gets angry... That something is really\, really wrong with me.  Maddie and Ian's love story began with a chance encounter at a party overseas\; he was serving in the British army and she was a travel writer visiting her best friend\, Jo. Now almost two decades later\, married with a beautiful son\, Charlie\, they are living the perfect suburban life in Middle America. But when a camping accident leaves Maddie badly scarred\, she begins attending writing therapy\, where she gradually reveals her fears about Ian's PTSD\; her concerns for the safety of their young son\; and the couple's tangled and tumultuous past with Jo.From the Balkans to England\, Iraq to Manhattan\, and finally to an ordinary family home in Kansas\, sixteen years of love and fear\, adventure and suspicion culminate in The Day of the Killing\, when a frantic 911 call summons the police to the scene of a shocking crime.\n\nAnnie Ward has a BA in English Literature from UCLA and a MFA in Screenwriting from the American Film Institute. Her first short screenplay\, Strange Habit\, starring Adam Scott was an official selection of the Sundance Film Festival and the Grand Jury Award winner at the Aspen Film Festival. She has received a Fulbright Scholarship and An Escape to Create Artists residency. She lives in Kansas with her family.
X-ALT-DESC;FMTTYPE=text/html:<p><strong>Lake Forest Book Store welcomes author/screenplay writer&nbsp\;Annie Ward as she presents her new mystery novel.</strong></p>\n\n<div><strong>BEAUTIFUL BAD</strong><br />\n&nbsp\;</div>\n\n<div><strong>Friday\, March 8th at&nbsp\;6:00 PM</strong></div>\n\n<p><strong>at Lake Forest Book Store</strong></p>\n\n<p><strong>Books Available for purchase and signing</strong></p>\n\n<p><strong>Refreshments will be served.</strong></p>\n\n<p><strong>Register at 847-234-4420</strong></p>\n\n<p>&nbsp\;</p>\n\n<p><strong>A devoted wife\, a loving husband and a chilling murder that no one saw coming.&nbsp\;<em>Things that make me scared: When Charlie cries. Hospitals and lakes. When Ian drinks vodka in the basement. ISIS. When Ian gets angry... That something is really\, really wrong with me.&nbsp\;&nbsp\;</em>Maddie and Ian&#39\;s love story began with a chance encounter at a party overseas\; he was serving in the British army and she was a travel writer visiting her best friend\, Jo. Now almost two decades later\, married with a beautiful son\, Charlie\, they are living the perfect suburban life in Middle America. But when a camping accident leaves Maddie badly scarred\, she begins attending writing therapy\, where she gradually reveals her fears about Ian&#39\;s PTSD\; her concerns for the safety of their young son\; and the couple&#39\;s tangled and tumultuous past with Jo.From the Balkans to England\, Iraq to Manhattan\, and finally to an ordinary family home in Kansas\, sixteen years of love and fear\, adventure and suspicion culminate in The Day of the Killing\, when a frantic 911 call summons the police to the scene of a shocking crime.</strong></p>\n\n<p>Annie Ward&nbsp\;has a BA in English Literature from UCLA and a MFA in Screenwriting from the American Film Institute. Her first short screenplay\,&nbsp\;<em>Strange Habit</em>\, starring Adam Scott was an official selection of the Sundance Film Festival and the Grand Jury Award winner at the Aspen Film Festival. She has received a Fulbright Scholarship and An Escape to Create Artists residency. She lives in Kansas with her family.</p>\n
LOCATION:Lake Forest Book Store 662 N. Western Avenue Lake Forest\, IL 60045
UID:e.1126.17598
SEQUENCE:3
DTSTAMP:20260424T100609Z
URL:https://business.lflbchamber.com/events/details/author-event-annie-ward-discusses-new-book-beautiful-bad-17598
END:VEVENT

END:VCALENDAR
