BEGIN:VCALENDAR
VERSION:2.0
PRODID:-//ChamberMaster//Event Calendar 2.0//EN
METHOD:PUBLISH
X-PUBLISHED-TTL:P3D
REFRESH-INTERVAL:P3D
CALSCALE:GREGORIAN
BEGIN:VEVENT
DTSTART:20190612T230000Z
DTEND:20190613T000000Z
X-MICROSOFT-CDO-ALLDAYEVENT:FALSE
SUMMARY:Author Event Jeanine Donofrio
DESCRIPTION:Join us as author Jeanine Donofrio presents the newest addition to her Love & Lemons series of cookbooks.\n\nLOVE & LEMONS EVERY DAY: MORE THAN 100 BRIGHT\, PLANT-FORWARD RECIPES FOR EVERY MEAL \n\n \n\nWednesday\, June 12\, 2019 at 6:00 PM\n\nat Lake Forest Book Store\n\nBooks available for purchase and signing\n\nRefreshments will be served\n\nCall 847-234-2240\n\n \n\nThe ultimate guide for cooking outrageously delicious\, vegetable-packed meals every day of the week\, from bestselling author of The Love & Lemons Cookbook. Known for her insanely flavorful vegetable recipes and stunning photography\, Jeanine Donofrio celebrates plants at the center of the plate with more than 100 new vegetarian recipes in Love & Lemons Every Day. In this book\, Jeanine shows you how to make any meal\, from breakfast to dessert\, where produce is the star. Butternut squash becomes the best creamy queso you've ever eaten\, broccoli transforms into a zesty green "rice" burrito filling\, and sweet potato blends into a smooth chocolate frosting. These exciting and approachable recipes will become instant additions to your family's regular meal rotation. This book is a resource\, filled with smart tips for happier\, healthier eating. You'll find inspiration from Jeanine's signature colorful infographics - such as a giant matrix of five-ingredient salad dressings\, a guide to quick weeknight pastas\, and a grid to show you how to roast any vegetable. There are also plenty of practical charts\, such as a template to make versatile vegetable broth\, seasonal produce guides\, and clever ideas to use commonly tossed vegetable parts -- you'll never toss those cauliflower cores\, corn cobs\, or broccoli stalks again! Packed with imaginative every day meals\, go-to cooking tips\, alternatives for dietary restrictions\, and guides for mastering produce-based kitchen staples\, Love & Lemons Every Day is a must-have for herbivores and omnivores alike.\n\n \n\nJeanine Donofrio is the author of The Love & Lemons Cookbook: An Apple-to-Zucchini Celebration of Impromptu Cooking and Love & Lemons Meal Record & Market List. "Happiness itself is tossed into every bowl\," The New York Times said of her first cookbook\, while Bon App tit hailed it as "the most beautiful cookbook we've ever seen." Jeanine has been featured in People\, O: The Oprah Magazine\, Self\, Shape\, Mind Body Green\, Design*Sponge\, Redbook\, Food52\, Refinery29\, and many more. As author of the popular Love and Lemons blog\, she partners with leading brands\, including Whole Foods and KitchenAid. She and her husband\, Jack\, cook and photograph from their home in Chicago while their two Shiba pups help clean up the kale stems that fall on the kitchen floor.
X-ALT-DESC;FMTTYPE=text/html:<p><strong>Join us as author Jeanine Donofrio presents&nbsp\;the newest addition to her Love&nbsp\;&amp\; Lemons series of cookbooks.</strong></p>\n\n<div><strong>LOVE&nbsp\;&amp\; LEMONS EVERY DAY: MORE THAN 100 BRIGHT\, PLANT-FORWARD RECIPES FOR EVERY MEAL&nbsp\;</strong><br />\n&nbsp\;</div>\n\n<div><strong>Wednesday\, June 12\, 2019 at 6:00 PM</strong></div>\n\n<p><strong>at Lake Forest Book Store</strong></p>\n\n<p><strong>Books available for purchase and signing</strong></p>\n\n<p><strong>Refreshments will be served</strong></p>\n\n<p><strong>Call 847-234-2240</strong></p>\n\n<div>&nbsp\;</div>\n\n<div><strong>The ultimate guide for cooking outrageously delicious\, vegetable-packed meals every day of the week\, from bestselling author of&nbsp\;<em>The Love &amp\; Lemons Cookbook</em>. K<span style="color:rgb(0\, 0\, 0)\; font-family:open sans\,helvetica\,arial\,sans-serif\; font-size:12px">nown for her insanely flavorful vegetable recipes and stunning photography\, Jeanine Donofrio celebrates plants at the center of the plate with more than 100 new vegetarian recipes in&nbsp\;</span><em>Love &amp\; Lemons Every Day</em><span style="color:rgb(0\, 0\, 0)\; font-family:open sans\,helvetica\,arial\,sans-serif\; font-size:12px">. In this book\, Jeanine shows you how to make any meal\, from breakfast to dessert\, where produce is the star. Butternut squash becomes the best creamy queso you&#39\;ve ever eaten\, broccoli transforms into a zesty green &quot\;rice&quot\; burrito filling\, and sweet potato blends into a smooth chocolate frosting. These exciting and approachable recipes will become instant additions to your family&#39\;s regular meal rotation.&nbsp\;</span><span style="color:rgb(0\, 0\, 0)\; font-family:open sans\,helvetica\,arial\,sans-serif\; font-size:12px">This book is a resource\, filled with smart tips for happier\, healthier eating. You&#39\;ll find inspiration from Jeanine&#39\;s signature colorful infographics - such as a giant matrix of five-ingredient salad dressings\, a guide to quick weeknight pastas\, and a grid to show you how to roast any vegetable. There are also plenty of practical charts\, such as a template to make versatile vegetable broth\, seasonal produce guides\, and clever ideas to use commonly tossed vegetable parts -- you&#39\;ll never toss those cauliflower cores\, corn cobs\, or broccoli stalks again!&nbsp\;</span><span style="color:rgb(0\, 0\, 0)\; font-family:open sans\,helvetica\,arial\,sans-serif\; font-size:12px">Packed with imaginative every day meals\, go-to cooking tips\, alternatives for dietary restrictions\, and guides for mastering produce-based kitchen staples\,&nbsp\;</span><em>Love &amp\; Lemons Every Day</em><span style="color:rgb(0\, 0\, 0)\; font-family:open sans\,helvetica\,arial\,sans-serif\; font-size:12px">&nbsp\;is a must-have for herbivores and omnivores alike.</span></strong></div>\n\n<div>&nbsp\;</div>\n\n<div>Jeanine Donofrio<span style="color:rgb(0\, 0\, 0)\; font-family:open sans\,helvetica\,arial\,sans-serif\; font-size:12px">&nbsp\;is the author of&nbsp\;</span><em>The Love &amp\; Lemons Cookbook: An Apple-to-Zucchini Celebration of Impromptu Cooking</em><span style="color:rgb(0\, 0\, 0)\; font-family:open sans\,helvetica\,arial\,sans-serif\; font-size:12px">&nbsp\;and&nbsp\;</span><em>Love &amp\; Lemons Meal Record &amp\; Market List</em><span style="color:rgb(0\, 0\, 0)\; font-family:open sans\,helvetica\,arial\,sans-serif\; font-size:12px">. &quot\;Happiness itself is tossed into every bowl\,&quot\;&nbsp\;</span><em>The New York Times</em><span style="color:rgb(0\, 0\, 0)\; font-family:open sans\,helvetica\,arial\,sans-serif\; font-size:12px">&nbsp\;said of her first cookbook\, while&nbsp\;</span><em>Bon App&eacute\;tit</em><span style="color:rgb(0\, 0\, 0)\; font-family:open sans\,helvetica\,arial\,sans-serif\; font-size:12px">&nbsp\;hailed it as &quot\;the most beautiful cookbook we&#39\;ve ever seen.&quot\; Jeanine has been featured in&nbsp\;</span><em>People</em><span style="color:rgb(0\, 0\, 0)\; font-family:open sans\,helvetica\,arial\,sans-serif\; font-size:12px">\,&nbsp\;</span><em>O: The Oprah Magazine</em><span style="color:rgb(0\, 0\, 0)\; font-family:open sans\,helvetica\,arial\,sans-serif\; font-size:12px">\,&nbsp\;</span><em>Self</em><span style="color:rgb(0\, 0\, 0)\; font-family:open sans\,helvetica\,arial\,sans-serif\; font-size:12px">\,&nbsp\;</span><em>Shape</em><span style="color:rgb(0\, 0\, 0)\; font-family:open sans\,helvetica\,arial\,sans-serif\; font-size:12px">\,&nbsp\;</span><em>Mind Body Green</em><span style="color:rgb(0\, 0\, 0)\; font-family:open sans\,helvetica\,arial\,sans-serif\; font-size:12px">\,&nbsp\;</span><em>Design*Sponge</em><span style="color:rgb(0\, 0\, 0)\; font-family:open sans\,helvetica\,arial\,sans-serif\; font-size:12px">\,&nbsp\;</span><em>Redbook</em><span style="color:rgb(0\, 0\, 0)\; font-family:open sans\,helvetica\,arial\,sans-serif\; font-size:12px">\,&nbsp\;</span><em>Food52</em><span style="color:rgb(0\, 0\, 0)\; font-family:open sans\,helvetica\,arial\,sans-serif\; font-size:12px">\,&nbsp\;</span><em>Refinery29</em><span style="color:rgb(0\, 0\, 0)\; font-family:open sans\,helvetica\,arial\,sans-serif\; font-size:12px">\, and many more. As author of the popular&nbsp\;</span><em>Love and Lemons&nbsp\;</em><span style="color:rgb(0\, 0\, 0)\; font-family:open sans\,helvetica\,arial\,sans-serif\; font-size:12px">blog\, she partners with leading brands\, including Whole Foods and KitchenAid. She and her husband\, Jack\, cook and photograph from their home in Chicago while their two Shiba pups help clean up the kale stems that fall on the kitchen floor.</span></div>\n
LOCATION:Lake Forest Book Store 662 N. Western Ave Lake Forest\, IL 60044
UID:e.1126.17882
SEQUENCE:3
DTSTAMP:20260424T055246Z
URL:https://business.lflbchamber.com/events/details/author-event-jeanine-donofrio-17882
END:VEVENT

END:VCALENDAR
