BEGIN:VCALENDAR
VERSION:2.0
PRODID:-//ChamberMaster//Event Calendar 2.0//EN
METHOD:PUBLISH
X-PUBLISHED-TTL:P3D
REFRESH-INTERVAL:P3D
CALSCALE:GREGORIAN
BEGIN:VEVENT
DTSTART:20190626T230000Z
DTEND:20190627T000000Z
X-MICROSOFT-CDO-ALLDAYEVENT:FALSE
SUMMARY:Author Event Lisa Barr The Unbreakables
DESCRIPTION:Chicago-area author\, journalist and blogger joins us at Lake Forest Book Store to present her newly-released novel\n\nTHE UNBREAKABLES\n\nWednesday\, June 26\, 2019 at 6:00 PM\n\nat Lake Forest Book Store\n\nBooks available for purchase and signing\n\nRefreshments will be served\n\nCall 847-234-4430\n\n\nTHE UNBREAKABLES by award-winning author Lisa Barr is a delicious\, captivating novel about a woman from Chicago who jets off to France after her "perfect" marriage collapses\, putting the broken pieces of herself back together while rediscovering her own joie de vivre a lust for life\, art\, and passion. \n\n\nThe worst birthday ever might just be the gift of a lifetime...It's Sophie Bloom's forty-second birthday\, and she's ready for a night of celebration with Gabe\, her longtime\, devoted husband\, and her two besties and their spouses. Dinner is served with a side of delicious gossip\, including which North Grove residents were caught with their pants down on Ashley Madison after the secret on-line dating site for married and committed couples was hacked. Thirty-two million cheaters worldwide have been exposed...including Sophie's "perfect" husband. To add insult to injury\, she learns Gabe is the top cheater in their town. Humiliated and directionless\, Sophie jumps into the unknown and flees to France to meet up with her teenage daughter who is studying abroad and nursing her own heartbreak. After a brief visit to Paris\, Sophie heads out to the artist enclave of Saint-Paul-de-Vence. There\, for the first time in a long time\, Sophie acknowledges her own desires--not her husband's\, not her daughter's--and rediscovers her essence with painful honesty and humor\, reawakening both her sensuality and ambitions as a sculptor. As she sheds her past and travels the obstacle-filled off beaten path\, Sophie Bloom is determined to blossom. Allowing her true self to emerge in the postcard beauty of Provence\, Sophie must decide what is broken forever...and what it means to be truly unbreakable.\n\n\n \n\nLisa Barr has been an editor at The Jerusalem Post\, Today's Chicago Woman\, and Moment magazine\, and an editor/reporter for the Chicago Sun-Times. Among the highlights of her career\, Lisa covered the famous "handshake" between the late Israeli Prime Minister Yitzhak Rabin\, the late PLO leader Yasser Arafat\, and President Bill Clinton at the White House. Lisa is also the creator and editor of the popular parenting blog\, GIRLilla Warfare. She has been featured on Good Morning America\, Today\, Fox & Friends\, and Australia TV for her work as an author\, journalist and blogger. She lives in the Chicago area with her husband and three daughters (aka: Drama Central).
X-ALT-DESC;FMTTYPE=text/html:<p><strong>Chicago-area author\, journalist and blogger joins us at Lake Forest Book Store to present her newly-released novel</strong></p>\n\n<div><strong>THE UNBREAKABLES</strong></div>\n\n<div><strong>Wednesday\, June 26\, 2019 at 6:00 PM</strong></div>\n\n<p><strong>at Lake Forest Book Store</strong></p>\n\n<p><strong>Books available for purchase and signing</strong></p>\n\n<p><strong>Refreshments will be served</strong></p>\n\n<p><strong>Call 847-234-4430</strong></p>\n\n<div>\n<div><strong>THE UNBREAKABLES by award-winning author Lisa Barr is a&nbsp\;<span style="color:rgb(0\, 0\, 0)\; font-family:calibri\,sans-serif">delicious\, captivating novel about a woman from Chicago who jets off to France after her &quot\;perfect&quot\; marriage collapses\, putting the broken pieces of herself back together while rediscovering her own&nbsp\;<em>joie de vivre</em>&mdash\;a lust for life\, art\, and passion.&nbsp\;</span></strong></div>\n\n<div>\n<p><strong>The worst birthday ever might just be the gift of a lifetime...It&#39\;s Sophie Bloom&#39\;s forty-second birthday\, and she&#39\;s ready for a night of celebration with Gabe\, her longtime\, devoted husband\, and her two besties and their spouses. Dinner is served with a side of delicious gossip\, including which North Grove residents were caught with their pants down on Ashley Madison after the secret on-line dating site for married and committed couples was hacked. Thirty-two million cheaters worldwide have been exposed...including Sophie&#39\;s &quot\;perfect&quot\; husband. To add insult to injury\, she learns Gabe is the top cheater in their town. Humiliated and directionless\, Sophie jumps into the unknown and flees to France to meet up with her teenage daughter who is studying abroad and nursing her own heartbreak. After a brief visit to Paris\, Sophie heads out to the artist enclave of Saint-Paul-de-Vence. There\, for the first time in a long time\, Sophie acknowledges her own desires--not her husband&#39\;s\, not her daughter&#39\;s--and rediscovers her essence with painful honesty and humor\, reawakening both her sensuality and ambitions as a sculptor. As she sheds her past and travels the obstacle-filled off beaten path\, Sophie Bloom is determined to blossom. Allowing her true self to emerge in the postcard beauty of Provence\, Sophie must decide what is broken forever...and what it means to be truly unbreakable.</strong></p>\n</div>\n\n<div>&nbsp\;</div>\n\n<div><span style="color:rgb(0\, 0\, 0)\; font-family:open sans\,helvetica\,arial\,sans-serif\; font-size:12px">Lisa Barr has been an editor at&nbsp\;</span><em>The Jerusalem Post\,&nbsp\;</em><em>Today&#39\;s Chicago Woman</em><span style="color:rgb(0\, 0\, 0)\; font-family:open sans\,helvetica\,arial\,sans-serif\; font-size:12px">\, and&nbsp\;</span><em>Moment</em><span style="color:rgb(0\, 0\, 0)\; font-family:open sans\,helvetica\,arial\,sans-serif\; font-size:12px">&nbsp\;magazine\, and an editor/reporter for the&nbsp\;</span><em>Chicago Sun-Times.</em><em>&nbsp\;</em><span style="color:rgb(0\, 0\, 0)\; font-family:open sans\,helvetica\,arial\,sans-serif\; font-size:12px">Among the highlights of her career\, Lisa covered the famous &quot\;handshake&quot\; between the late Israeli Prime Minister Yitzhak Rabin\, the late PLO leader Yasser Arafat\, and President Bill Clinton at the White House. Lisa is also the creator and editor of the popular parenting blog\, GIRLilla Warfare. She has been featured on&nbsp\;</span><em>Good Morning America\, Today\, Fox &amp\; Friends\,&nbsp\;</em><span style="color:rgb(0\, 0\, 0)\; font-family:open sans\,helvetica\,arial\,sans-serif\; font-size:12px">and&nbsp\;</span><em>Australia TV&nbsp\;</em><span style="color:rgb(0\, 0\, 0)\; font-family:open sans\,helvetica\,arial\,sans-serif\; font-size:12px">for her work as an author\, journalist and blogger. She lives in the Chicago area with her husband and three daughters (aka: Drama Central).</span></div>\n</div>\n
LOCATION:Chicago-area author\, journalist and blogger joins us at Lake Forest Book Store to present her newly-released novel THE UNBREAKABLES Wednesday\, June 26\, 2019 at 6:00 PM at Lake Forest Book Store Books available for purchase and signing Refreshments will be served Call 847-234-4430 THE UNBREAKABLES by award-winning author Lisa Barr is a delicious\, captivating novel about a woman from Chicago who jets off to France after her "perfect" marriage collapses\, putting the broken pieces of herself back together while rediscovering her own joie de vivre a lust for life\, art\, and passion. The worst birthday ever might just be the gift of a lifetime...It's Sophie Bloom's forty-second birthday\, and she's ready for a night of celebration with Gabe\, her longtime\, devoted husband\, and her two besties and their spouses. Dinner is served with a side of delicious gossip\, including which North Grove residents were caught with their pants down on Ashley Madison after the secret on-line dating site for married and committed couples was hacked. Thirty-two million cheaters worldwide have been exposed...including Sophie's "perfect" husband. To add insult to injury\, she learns Gabe is the top cheater in their town. Humiliated and directionless\, Sophie jumps into the unknown and flees to France to meet up with her teenage daughter who is studying abroad and nursing her own heartbreak. After a brief visit to Paris\, Sophie heads out to the artist enclave of Saint-Paul-de-Vence. There\, for the first time in a long time\, Sophie acknowledges her own desires--not her husband's\, not her daughter's--and rediscovers her essence with painful honesty and humor\, reawakening both her sensuality and ambitions as a sculptor. As she sheds her past and travels the obstacle-filled off beaten path\, Sophie Bloom is determined to blossom. Allowing her true self to emerge in the postcard beauty of Provence\, Sophie must decide what is broken forever...and what it means to be truly unbreakable. Lisa Barr has been an editor at The Jerusalem Post\, Today's Chicago Woman\, and Moment magazine\, and an editor/reporter for the Chicago Sun-Times. Among the highlights of her career\, Lisa covered the famous "handshake" between the late Israeli Prime Minister Yitzhak Rabin\, the late PLO leader Yasser Arafat\, and President Bill Clinton at the White House. Lisa is also the creator and editor of the popular parenting blog\, GIRLilla Warfare. She has been featured on Good Morning America\, Today\, Fox & Friends\, and Australia TV for her work as an author\, journalist and blogger. She lives in the Chicago area with her husband and three daughters (aka: Drama Central).
UID:e.1126.17989
SEQUENCE:3
DTSTAMP:20260424T055240Z
URL:https://business.lflbchamber.com/events/details/author-event-lisa-barr-the-unbreakables-17989
END:VEVENT

END:VCALENDAR
