BEGIN:VCALENDAR
VERSION:2.0
PRODID:-//ChamberMaster//Event Calendar 2.0//EN
METHOD:PUBLISH
X-PUBLISHED-TTL:P3D
REFRESH-INTERVAL:P3D
CALSCALE:GREGORIAN
BEGIN:VEVENT
DTSTART:20190925T230000Z
DTEND:20190926T000000Z
X-MICROSOFT-CDO-ALLDAYEVENT:FALSE
SUMMARY:Author Event with Elliot Ackerman
DESCRIPTION:Author Elliot Ackerman at Lake Forest Book Store\n\n\n\n\n\n\n\n\nFormer White House fellow\, Marine veteran and author\, Elliot Ackerman appears at Lake Forest Book Store\n\nWAITING FOR EDEN\n\nKnopf Publishing Group $23.00 (Released September 25\, 2018)\n\nWednesday\, September 25\, 2019 at 6:00 PM\n\nat Lake Forest Book Store\n\nRefreshment will be served\n\nBooks available for purchase and signing\n\nSpace is limited\, so call 847-234-4420\n\nFrom the National Book Award finalist\, a breathtakingly spare and shattering new novel that traces the intersection of three star-crossed lives. Eden Malcom lies in a bed\, unable to move or to speak\, imprisoned in his own mind. His wife Mary spends every day on the sofa in his hospital room. He has never even met their young daughter. And he will never again see the friend and fellow soldier who didn't make it back home--and who narrates the novel. But on Christmas\, the one day Mary is not at his bedside\, Eden's re-ordered consciousness comes flickering alive. As he begins to find a way to communicate\, some troubling truths about his marriage--and about his life before he went to war--come to the surface. Is Eden the same man he once was: a husband\, a friend\, a father-to-be? What makes a life worth living? A piercingly insightful\, deeply felt meditation on loyalty and betrayal\, love and fear\, Waiting for Eden is a tour de force of profound humanity.\n\nElliot Ackerman is the author of the novels Dark at the Crossing\, which was a finalist for the National Book Award\, and Green on Blue. His writings have appeared in Esquire\, The New Yorker\, The Atlantic\, and The New York Times Magazine\, among other publications\, and his stories have been included in The Best American Short Stories. He is both a former White House Fellow and Marine\, and served five tours of duty in Iraq and Afghanistan\, where he received the Silver Star\, the Bronze Star for Valor\, and the Purple Heart. He divides his time between New York City and Washington\, D.C.
X-ALT-DESC;FMTTYPE=text/html:<h1>Author Elliot Ackerman at Lake Forest Book Store</h1>\n\n<div>\n<div>\n<div>\n<div>\n<div>\n<div>\n<div>\n<p><strong>Former White House fellow\, Marine veteran and author\, Elliot&nbsp\;Ackerman appears at Lake Forest Book Store</strong></p>\n\n<div><strong>WAITING FOR EDEN</strong></div>\n\n<p><strong>Knopf Publishing Group $23.00 (Released September 25\, 2018)</strong></p>\n\n<div><strong>Wednesday\, September 25\, 2019 at 6:00 PM</strong></div>\n\n<p><strong>at Lake Forest Book Store</strong></p>\n\n<p><strong>Refreshment will be served</strong></p>\n\n<p><strong>Books available for purchase and signing</strong></p>\n\n<p><strong>Space is limited\, so call 847-234-4420</strong></p>\n\n<p><strong>From the National Book Award finalist\, a breathtakingly spare and shattering new novel that traces the intersection of three star-crossed lives.&nbsp\;Eden Malcom lies in a bed\, unable to move or to speak\, imprisoned in his own mind. His wife Mary spends every day on the sofa in his hospital room. He has never even met their young daughter. And he will never again see the friend and fellow soldier who didn&#39\;t make it back home--and who narrates the novel. But on Christmas\, the one day Mary is not at his bedside\, Eden&#39\;s re-ordered consciousness comes flickering alive. As he begins to find a way to communicate\, some troubling truths about his marriage--and about his life before he went to war--come to the surface. Is Eden the same man he once was: a husband\, a friend\, a father-to-be? What makes a life worth living? A piercingly insightful\, deeply felt meditation on loyalty and betrayal\, love and fear\,&nbsp\;<em>Waiting for Eden</em>&nbsp\;is a tour de force of profound humanity.</strong></p>\n\n<p>Elliot Ackerman is the author of the novels&nbsp\;<em>Dark at the Crossing\,&nbsp\;</em>which was a finalist for the National Book Award\, and&nbsp\;<em>Green on Blue.</em>&nbsp\;His writings have appeared in&nbsp\;<em>Esquire\, The New Yorker\, The Atlantic\,&nbsp\;</em>and&nbsp\;<em>The New York Times Magazine\,&nbsp\;</em>among other publications\, and his stories have been included in&nbsp\;<em>The Best American Short Stories.</em>&nbsp\;He is both a former White House Fellow and Marine\, and served five tours of duty in Iraq and Afghanistan\, where he received the Silver Star\, the Bronze Star for Valor\, and the Purple Heart. He divides his time between New York City and Washington\, D.C.</p>\n</div>\n</div>\n</div>\n</div>\n</div>\n</div>\n</div>\n
LOCATION:Lake Forest Book Store
UID:e.1126.18110
SEQUENCE:3
DTSTAMP:20260424T012450Z
URL:https://business.lflbchamber.com/events/details/author-event-with-elliot-ackerman-18110
END:VEVENT

END:VCALENDAR
