BEGIN:VCALENDAR
VERSION:2.0
PRODID:-//ChamberMaster//Event Calendar 2.0//EN
METHOD:PUBLISH
X-PUBLISHED-TTL:P3D
REFRESH-INTERVAL:P3D
CALSCALE:GREGORIAN
BEGIN:VEVENT
DTSTART:20190919T230000Z
DTEND:20190920T000000Z
X-MICROSOFT-CDO-ALLDAYEVENT:FALSE
SUMMARY:Author Kristine Hansen at Lake Forest Book Store
DESCRIPTION:Author Joshilyn Jackson joins the staff of Lake Forest Book Store to present her newest novel.\n\nNEVER HAVE I EVER\n\n \n\nThursday\, September 12\, 2019 at 6:00 PM. - 7:00 PM\n\nBooks available for purchase and signing\n\nRefreshments will be served\n\nCall 847-234-4420 to sign up.\n\n \n\nIn this game\, even winning can be deadly... Amy Whey is proud of her ordinary life and the simple pleasures that come with it--teaching diving lessons\, baking cookies for new neighbors\, helping her best friend\, Charlotte\, run their local book club. Her greatest joy is her family: her devoted professor husband\, her spirited fifteen-year-old stepdaughter\, her adorable infant son. And\, of course\, the steadfast and supportive Charlotte. But Amy's sweet\, uncomplicated life begins to unravel when the mysterious and alluring Angelica Roux arrives on her doorstep one book club night. Sultry and magnetic\, Roux beguiles the group with her feral charm. She keeps the wine flowing and lures them into a game of spilling secrets. Everyone thinks it's naughty\, harmless fun. Only Amy knows better. Something wicked has come her way--a she-devil in a pricey red sports car who seems to know the terrible truth about who she is and what she once did. When they're alone\, Roux tells her that if she doesn't give her what she asks for\, what she deserves\, she's going to make Amy pay for her sins. One way or another. To protect herself and her family and save the life she's built\, Amy must beat the devil at her own clever game\, matching wits with Roux in an escalating war of hidden pasts and unearthed secrets. Amy knows the consequences if she can't beat Roux. What terrifies her is everything she could lose if she wins. A diabolically entertaining tale of betrayal\, deception\, temptation\, and love filled with dark twists leavened by Joshilyn Jackson's trademark humor\, Never Have I Ever explores what happens when the transgressions of our past come back with a vengeance. \n\nJoshilyn Jackson is the New York Times bestselling author of seven novels\, including Gods in Alabama and A Grown-Up Kind of Pretty. Her books have been translated into a dozen languages. A former actor\, Jackson is also an award-winning audiobook narrator. She lives in Decatur\, Georgia\, with her husband and their two children.
X-ALT-DESC;FMTTYPE=text/html:<p><strong>Author Joshilyn Jackson joins the staff of Lake Forest Book Store to present her newest novel.</strong></p>\n\n<div><strong>NEVER HAVE I EVER</strong><br />\n&nbsp\;</div>\n\n<div><strong>Thursday\, September 12\, 2019 at 6:00 PM. - 7:00 PM</strong></div>\n\n<p><strong>Books available for purchase and signing</strong></p>\n\n<p><strong>Refreshments will be served</strong></p>\n\n<p><strong>Call 847-234-4420 to sign up.</strong></p>\n\n<p>&nbsp\;</p>\n\n<p><strong><em>In this game\, even winning can be deadly...&nbsp\;</em>Amy Whey is proud of her ordinary life and the simple pleasures that come with it--teaching diving lessons\, baking cookies for new neighbors\, helping her best friend\, Charlotte\, run their local book club. Her greatest joy is her family: her devoted professor husband\, her spirited fifteen-year-old stepdaughter\, her adorable infant son. And\, of course\, the steadfast and supportive Charlotte. But Amy&#39\;s sweet\, uncomplicated life begins to unravel when the mysterious and alluring Angelica Roux arrives on her doorstep one book club night.&nbsp\;Sultry and magnetic\, Roux beguiles the group with her feral charm. She keeps the wine flowing and lures them into a game of spilling secrets. Everyone thinks it&#39\;s naughty\, harmless fun. Only Amy knows better. Something wicked has come her way--a she-devil in a pricey red sports car who seems to know the terrible truth about who she is and what she once did.&nbsp\;When they&#39\;re alone\, Roux tells her that if she doesn&#39\;t give her what she asks for\, what she deserves\, she&#39\;s going to make Amy pay for her sins. One way or another.&nbsp\;To protect herself and her family and save the life she&#39\;s built\, Amy must beat the devil at her own clever game\, matching wits with Roux in an escalating war of hidden pasts and unearthed secrets. Amy knows the consequences if she can&#39\;t beat Roux. What terrifies her is everything she could lose if she wins.&nbsp\;A diabolically entertaining tale of betrayal\, deception\, temptation\, and love filled with dark twists leavened by Joshilyn Jackson&#39\;s trademark humor\,&nbsp\;<em>Never Have I Ever</em>&nbsp\;explores what happens when the transgressions of our past come back with a vengeance.&nbsp\;</strong></p>\n\n<p>Joshilyn Jackson is the&nbsp\;<em>New York Times</em>&nbsp\;bestselling author of seven novels\, including&nbsp\;<em>Gods in Alabama</em>&nbsp\;and&nbsp\;<em>A Grown-Up Kind of Pretty.</em>&nbsp\;Her books have been translated into a dozen languages. A former actor\, Jackson is also an award-winning audiobook narrator. She lives in Decatur\, Georgia\, with her husband and their two children.</p>\n
LOCATION:Lake Forest Book Store 662 N. Western Avenue Lake Forest\, IL 60045
UID:e.1126.18215
SEQUENCE:3
DTSTAMP:20260424T025844Z
URL:https://business.lflbchamber.com/events/details/author-kristine-hansen-at-lake-forest-book-store-18215
END:VEVENT

END:VCALENDAR
