BEGIN:VCALENDAR
VERSION:2.0
PRODID:-//ChamberMaster//Event Calendar 2.0//EN
METHOD:PUBLISH
X-PUBLISHED-TTL:P3D
REFRESH-INTERVAL:P3D
CALSCALE:GREGORIAN
BEGIN:VEVENT
DTSTART:20190918T163000Z
DTEND:20190918T183000Z
X-MICROSOFT-CDO-ALLDAYEVENT:FALSE
SUMMARY:Author Luncheon with Claire Lombardo
DESCRIPTION:Luncheon with Author Claire Lombardo at The Deer Path Inn\n\n\n\n\n\n\n\n\nLuncheon with author and Oak Park native\, Claire Lombardo to celebrates publication of her first novel\n\nTHE MOST FUN WE EVER HAD\n\nDoubleday Books  $29.00  Releases June 25\, 2019\n\nWednesday\, September 18\, 2019 at 11:30 AM to 1:30 PM\n\nat The Deer Path Inn\n\n255 East Illinois Road\n\nLake Forest\, IL 60045\n\n$55 per person includes lunch and book\n\nReservations required. Call 847-234-4420\n\n \n\nWhen Marilyn Connolly and David Sorenson fall in love in the 1970s\, they are blithely ignorant of all that's to come. By 2016\, their four radically different daughters are each in a state of unrest: Wendy\, widowed young\, soothes herself with booze and younger men\; Violet\, a litigator-turned-stay-at-home-mom\, battles anxiety and self-doubt when the darkest part of her past resurfaces\; Liza\, a neurotic and newly tenured professor\, finds herself pregnant with a baby she's not sure she wants by a man she's not sure she loves\; and Grace\, the dawdling youngest daughter\, begins living a lie that no one in her family even suspects. Above it all\, the daughters share the lingering fear that they will never find a love quite like their parents'. As the novel moves through the tumultuous year following the arrival of Jonah Bendt--given up by one of the daughters in a closed adoption fifteen years before--we are shown the rich and varied tapestry of the Sorensons' past: years marred by adolescence\, infidelity\, and resentment\, but also the transcendent moments of joy that make everything else worthwhile. Spanning nearly half a century\, and set against the quintessential American backdrop of Chicago and its prospering suburbs\, Lombardo's debut explores the triumphs and burdens of love\, the fraught tethers of parenthood and sisterhood\, and the baffling mixture of affection\, abhorrence\, resistance\, and submission we feel for those closest to us. In painting this luminous portrait of a family's becoming\, Lombardo joins the ranks of writers such as Celeste Ng\, Elizabeth Strout\, and Jonathan Franzen as visionary chroniclers of our modern lives.\n\n \n\nClaire Lombardo earned her MFA in fiction at the Iowa Writers' Workshop. She was born and raised in Oak Park\, Illinois. A former social worker\, she now teaches fiction writing and is at work on a second novel.
X-ALT-DESC;FMTTYPE=text/html:<h1>Luncheon with Author Claire Lombardo at The Deer Path Inn</h1>\n\n<div>\n<div>\n<div>\n<div>\n<div>\n<div>\n<div>\n<p><strong>Luncheon with author and Oak Park native\, Claire Lombardo to celebrates publication of her first novel</strong></p>\n\n<div><strong>THE MOST FUN WE EVER HAD</strong></div>\n\n<p><strong>Doubleday Books&nbsp\; $29.00&nbsp\; Releases June 25\, 2019</strong></p>\n\n<div><strong>Wednesday\, September 18\, 2019 at 11:30 AM to 1:30 PM</strong></div>\n\n<div><strong>at The Deer Path Inn</strong></div>\n\n<div><strong>255 East Illinois Road</strong></div>\n\n<p><strong>Lake Forest\, IL 60045</strong></p>\n\n<p><strong>$55 per person includes lunch and book</strong></p>\n\n<p><strong>Reservations required. Call 847-234-4420</strong></p>\n\n<p>&nbsp\;</p>\n\n<p><strong>When Marilyn Connolly and David Sorenson fall in love in the 1970s\, they are blithely ignorant of all that&#39\;s to come. By 2016\, their four radically different daughters are each in a state of unrest: Wendy\, widowed young\, soothes herself with booze and younger men\; Violet\, a litigator-turned-stay-at-home-mom\, battles anxiety and self-doubt when the darkest part of her past resurfaces\; Liza\, a neurotic and newly tenured professor\, finds herself pregnant with a baby she&#39\;s not sure she wants by a man she&#39\;s not sure she loves\; and Grace\, the dawdling youngest daughter\, begins living a lie that no one in her family even suspects. Above it all\, the daughters share the lingering fear that they will never find a love quite like their parents&#39\;.&nbsp\;As the novel moves through the tumultuous year following the arrival of Jonah Bendt--given up by one of the daughters in a closed adoption fifteen years before--we are shown the rich and varied tapestry of the Sorensons&#39\; past: years marred by adolescence\, infidelity\, and resentment\, but also the transcendent moments of joy that make everything else worthwhile.&nbsp\;Spanning nearly half a century\, and set against the quintessential American backdrop of Chicago and its prospering suburbs\, Lombardo&#39\;s debut explores the triumphs and burdens of love\, the fraught tethers of parenthood and sisterhood\, and the baffling mixture of affection\, abhorrence\, resistance\, and submission we feel for those closest to us. In painting this luminous portrait of a family&#39\;s becoming\, Lombardo joins the ranks of writers such as Celeste Ng\, Elizabeth Strout\, and Jonathan Franzen as visionary chroniclers of our modern lives.</strong></p>\n\n<p>&nbsp\;</p>\n\n<p>Claire Lombardo&nbsp\;earned her MFA in fiction at the Iowa Writers&#39\; Workshop. She was born and raised in Oak Park\, Illinois. A former social worker\, she now teaches fiction writing and is at work on a second novel.</p>\n\n<div>&nbsp\;</div>\n</div>\n</div>\n</div>\n\n<div>&nbsp\;</div>\n</div>\n</div>\n</div>\n</div>\n
LOCATION:The Deer Path Inn 255 E. Illinois Lake Forest\, IL
UID:e.1126.18017
SEQUENCE:3
DTSTAMP:20260424T012639Z
URL:https://business.lflbchamber.com/events/details/author-luncheon-with-claire-lombardo-18017
END:VEVENT

END:VCALENDAR
