BEGIN:VCALENDAR
VERSION:2.0
PRODID:-//ChamberMaster//Event Calendar 2.0//EN
METHOD:PUBLISH
X-PUBLISHED-TTL:P3D
REFRESH-INTERVAL:P3D
CALSCALE:GREGORIAN
BEGIN:VEVENT
DTSTART:20190410T163000Z
DTEND:20190410T183000Z
X-MICROSOFT-CDO-ALLDAYEVENT:FALSE
SUMMARY:Author Luncheon with Erin Gates
DESCRIPTION:Join Lake Forest Book Store in welcoming interior designer and author Erin Gates as she celebrates the release of her newest book.\n\nELEMENTS OF FAMILY STYLE: ELEGANT SPACES FOR EVERYDAY LIFE\n\nAtria Books  $35.00  Releases April 2\, 2019\n\nWednesday\, April 10\, 2019 at 11:30 AM\n\nat Froggy's French Cafe\n\n306 Green Bay Road\n\nHighwood\, IL 60040\n\n$68 includes lunch and a book.\n\nReservations are required. Call 847-234-4420\n\nNew York Times bestselling author and popular lifestyle blogger Erin Gates shares everything you need to know about designing a beautifully stylish--yet practical and functional--family home through candid advice\, inspirational ideas\, and lessons learned. Loved by her readers for her chic interior designs and frank and funny revelations about life behind the scenes of her picture-perfect blog\, bestselling author and designer Erin Gates presents a new book about how to live stylishly amidst the chaos of daily family life. Throughout her career designing homes for families of all kinds all over the country\, Erin has always maintained that living with children and pets does not mean that you have to forego nice things. This uniquely personal and practical guide will explain how to create a home that makes you proud and reflects your own style while also being durable\, safe\, and comfortable for children. It focuses on the spaces families share\, those that are dedicated to the kids\, and the oft-forgotten retreats for parents. Erin combines honest design advice and gorgeous inspirational photographs with engaging and intimate personal essays about life lessons learned the hard way while struggling with infertility and becoming a mother\, managing a business\, overseeing her own home renovation\, and finding time for her marriage. She'll share how to store toys so that shared spaces don't look like a kindergarten\, the expensive-looking fabrics that will stand up to a marauding toddler with sticky hands\, nursery looks that go beyond blue and pink\, and furniture that does not have to be stored during the baby-proofing years. She also showcases the work of other designers she loves who surround parents\, children\, and their pets with comfort and beauty. Like a best friend who has a knack for style and a taste for fun\, Erin opens her front door and invites you into her life and all of its beautiful imperfection.\n\nErin T. Gates is an interior designer\, blogger\, and author of the New York Times bestseller Elements of Style: Designing a Home and a Life. She has been featured in publications such as O\, The Oprah Magazine\, Redbook\, Better Homes & Gardens\, Elle D cor\, Canadian House & Home\, the Boston Globe\, and The Wall Street Journal. She lives outside Boston with her husband and son.
X-ALT-DESC;FMTTYPE=text/html:<p><strong><span style="font-family:lucida sans unicode\,lucida grande\,sans-serif">Join Lake Forest Book Store in welcoming interior designer and author Erin Gates as she celebrates the release of her newest book.</span></strong></p>\n\n<div><strong><span style="font-family:lucida sans unicode\,lucida grande\,sans-serif">ELEMENTS OF FAMILY STYLE: ELEGANT SPACES FOR EVERYDAY LIFE</span></strong></div>\n\n<p><strong><span style="font-family:lucida sans unicode\,lucida grande\,sans-serif">Atria Books&nbsp\; $35.00&nbsp\; Releases April 2\, 2019</span></strong></p>\n\n<div><strong><span style="font-family:lucida sans unicode\,lucida grande\,sans-serif">Wednesday\, April 10\, 2019 at 11:30 AM</span></strong></div>\n\n<div><strong><span style="font-family:lucida sans unicode\,lucida grande\,sans-serif">at Froggy&#39\;s French Cafe</span></strong></div>\n\n<div><strong><span style="font-family:lucida sans unicode\,lucida grande\,sans-serif">306 Green Bay Road</span></strong></div>\n\n<p><strong><span style="font-family:lucida sans unicode\,lucida grande\,sans-serif">Highwood\, IL 60040</span></strong></p>\n\n<p><strong><span style="font-family:lucida sans unicode\,lucida grande\,sans-serif">$68 includes lunch and a book.</span></strong></p>\n\n<p><strong><span style="font-family:lucida sans unicode\,lucida grande\,sans-serif">Reservations are required.&nbsp\;Call 847-234-4420</span></strong></p>\n\n<p><strong><span style="font-family:lucida sans unicode\,lucida grande\,sans-serif"><em>New York Times&nbsp\;</em>bestselling author and popular lifestyle blogger Erin Gates shares everything you need to know about designing a beautifully stylish--yet practical and functional--family home through candid advice\, inspirational ideas\, and lessons learned.&nbsp\;</span></strong><strong><span style="font-family:lucida sans unicode\,lucida grande\,sans-serif">Loved by her readers for her chic interior designs and frank and funny revelations about life behind the scenes of her picture-perfect blog\, bestselling author and designer Erin Gates presents a new book about how to live stylishly amidst the chaos of daily family life. Throughout her career designing homes for families of all kinds all over the country\, Erin has always maintained that living with children and pets does not mean that you have to forego nice things. This uniquely personal and practical guide will explain how to create a home that makes you proud and reflects your own style while also being durable\, safe\, and comfortable for children. It focuses on the spaces families share\, those that are dedicated to the kids\, and the oft-forgotten retreats for parents.&nbsp\;</span></strong><strong><span style="font-family:lucida sans unicode\,lucida grande\,sans-serif">Erin combines honest design advice and gorgeous inspirational photographs with engaging and intimate personal essays about life lessons learned the hard way while struggling with infertility and becoming a mother\, managing a business\, overseeing her own home renovation\, and finding time for her marriage. She&#39\;ll share how to store toys so that shared spaces don&#39\;t look like a kindergarten\, the expensive-looking fabrics that will stand up to a marauding toddler with sticky hands\, nursery looks that go beyond blue and pink\, and furniture that does not have to be stored during the baby-proofing years. She also showcases the work of other designers she loves who surround parents\, children\, and their pets with comfort and beauty. Like a best friend who has a knack for style and a taste for fun\, Erin opens her front door and invites you into her life and all of its beautiful imperfection.</span></strong></p>\n\n<p>Erin T. Gates is an interior designer\, blogger\, and author of the&nbsp\;<em>New York Times</em>&nbsp\;bestseller&nbsp\;<em>Elements of Style: Designing a Home and a Life</em>. She has been featured in publications such as&nbsp\;<em>O\, The Oprah Magazine</em>\,&nbsp\;<em>Redbook</em>\,&nbsp\;<em>Better Homes &amp\; Gardens</em>\,&nbsp\;<em>Elle D&eacute\;cor\, Canadian House &amp\;</em>&nbsp\;<em>Home\, the Boston Globe</em>\, and&nbsp\;<em>The Wall Street Journal</em>. She lives outside Boston with her husband and son.</p>\n
LOCATION:Froggy's French Cafe 306 Green Bay Road Highwood
UID:e.1126.17647
SEQUENCE:3
DTSTAMP:20260424T100236Z
URL:https://business.lflbchamber.com/events/details/author-luncheon-with-erin-gates-17647
END:VEVENT

END:VCALENDAR
