BEGIN:VCALENDAR
VERSION:2.0
PRODID:-//ChamberMaster//Event Calendar 2.0//EN
METHOD:PUBLISH
X-PUBLISHED-TTL:P3D
REFRESH-INTERVAL:P3D
CALSCALE:GREGORIAN
BEGIN:VEVENT
DTSTART:20190425T163000Z
DTEND:20190425T183000Z
X-MICROSOFT-CDO-ALLDAYEVENT:FALSE
SUMMARY:Author Luncheon with Nickolas Butler
DESCRIPTION:Join the staff of Lake Forest Book Store at The Deer Path Inn in welcoming author Nickolas Butler\n\nLITTLE FAITH\n\nEcco Press  $27.00  Releases March 5\, 2019\n\nThursday\, April 25\, 2019 at 11:30 AM\n\nat The Deer Path Inn\n\n255 East Illinois Road\n\nLake Forest\, IL 60045\n\n$55 includes lunch and a copy of the book\n\nReservations required. Call 847-234-4420\n\nIn this moving new novel from celebrated author Nickolas Butler\, a Wisconsin family grapples with the power and limitations of faith when one of their own falls under the influence of a radical church. Lyle Hovde is at the onset of his golden years\, living a mostly content life in rural Wisconsin with his wife\, Peg\, daughter\, Shiloh\, and six-year old grandson\, Isaac. After a troubled adolescence and subsequent estrangement from her parents\, Shiloh has finally come home. But while Lyle is thrilled to have his whole family reunited\, he's also uneasy: in Shiloh's absence\, she has become deeply involved with an extremist church\, and the devout pastor courting her is convinced Isaac has the spiritual ability to heal the sick. While reckoning with his own faith--or lack thereof--Lyle soon finds himself torn between his unease about the church and his desire to keep his daughter and grandson in his life. But when the church's radical belief system threatens Isaac's safety\, Lyle is forced to make a decision from which the family may not recover. Set over the course of one year and beautifully evoking the change of seasons\, Little Faith is a powerful and deeply affecting intergenerational novel about family and community\, the ways in which belief is both formed and shaken\, and the lengths we go to protect our own.\n\nNickolas Butler was born in Allentown\, Pennsylvania\, and raised in Eau Claire\, Wisconsin. He is a graduate of the University of Wisconsin-Madison as well as the Iowa Writers' Workshop\, and the author of the novel The Hearts of Men\, the internationally bestselling and prizewinning novel Shotgun Lovesongs\, and the acclaimed short story collection Beneath the Bonfire.  He lives in Wisconsin with his wife and their two children.
X-ALT-DESC;FMTTYPE=text/html:<p><strong>Join the staff of Lake Forest Book Store at The Deer Path Inn in welcoming author Nickolas Butler</strong></p>\n\n<div><strong>LITTLE FAITH</strong></div>\n\n<p><strong>Ecco Press&nbsp\; $27.00&nbsp\; Releases March 5\, 2019</strong></p>\n\n<div><strong>Thursday\, April 25\, 2019 at 11:30 AM</strong></div>\n\n<div><strong>at The Deer Path Inn</strong></div>\n\n<div><strong>255 East Illinois Road</strong></div>\n\n<p><strong>Lake Forest\, IL 60045</strong></p>\n\n<p><strong>$55 includes lunch and a copy of the book</strong></p>\n\n<p><strong>Reservations required. Call 847-234-4420</strong></p>\n\n<p><strong>In this moving new novel from celebrated author Nickolas Butler\, a Wisconsin family grapples with the power and limitations of faith when one of their own falls under the influence of a radical church.&nbsp\;Lyle Hovde is at the onset of his golden years\, living a mostly content life in rural Wisconsin with his wife\, Peg\, daughter\, Shiloh\, and six-year old grandson\, Isaac. After a troubled adolescence and subsequent estrangement from her parents\, Shiloh has finally come home. But while Lyle is thrilled to have his whole family reunited\, he&#39\;s also uneasy: in Shiloh&#39\;s absence\, she has become deeply involved with an extremist church\, and the devout pastor courting her is convinced Isaac has the spiritual ability to heal the sick.&nbsp\;While reckoning with his own faith--or lack thereof--Lyle soon finds himself torn between his unease about the church and his desire to keep his daughter and grandson in his life. But when the church&#39\;s radical belief system threatens Isaac&#39\;s safety\, Lyle is forced to make a decision from which the family may not recover.&nbsp\;Set over the course of one year and beautifully evoking the change of seasons\,&nbsp\;<em>Little Faith&nbsp\;</em>is a powerful and deeply affecting intergenerational novel about family and community\, the ways in which belief is both formed and shaken\, and the lengths we go to protect our own.</strong></p>\n\n<p>Nickolas Butler&nbsp\;was born in Allentown\, Pennsylvania\, and raised in Eau Claire\, Wisconsin. He is a graduate of the University of Wisconsin-Madison as well as the Iowa Writers&#39\; Workshop\, and the author of the novel&nbsp\;<em>The Hearts of Men\,&nbsp\;</em>the internationally bestselling and prizewinning novel&nbsp\;<em>Shotgun Lovesongs</em>\, and the acclaimed short story collection&nbsp\;<em>Beneath the Bonfire</em>.&nbsp\; He lives in Wisconsin with his wife and their two children.</p>\n
LOCATION:Deer Path Inn 255 East Illinois Lake Forest
UID:e.1126.17648
SEQUENCE:3
DTSTAMP:20260424T100139Z
URL:https://business.lflbchamber.com/events/details/author-luncheon-with-nickolas-butler-17648
END:VEVENT

END:VCALENDAR
