BEGIN:VCALENDAR
VERSION:2.0
PRODID:-//ChamberMaster//Event Calendar 2.0//EN
METHOD:PUBLISH
X-PUBLISHED-TTL:P3D
REFRESH-INTERVAL:P3D
CALSCALE:GREGORIAN
BEGIN:VEVENT
DTSTART:20190501T163000Z
DTEND:20190501T183000Z
X-MICROSOFT-CDO-ALLDAYEVENT:FALSE
SUMMARY:Author Luncheon with Renee Rosen
DESCRIPTION:Author Luncheon with Renee Rosen at The Deer Path Inn\n\n\n\n\n\n\n\n\nJoin author Renee Rosen for lunch at The Deer Path Inn as she presents her newest book release.\n\n \n\nPARK AVENUE SUMMER\n\nBerkley Books\, Releases April 30\, 2019\n\nWednesday\, May 1\, 2019 at 11:30AM\n\n at The Deer Path Inn\n\n255 East Illinois Street\n\nLake Forest\, IL 60045\n\n$55 includes lunch and book\n\nSeating is limited and reservations are required. Call 847-234-4420\n\nMad Men meets The Devil Wears Prada as Ren e Rosen draws readers into the glamorous New York City of 1965 and Cosmopolitan magazine\, where a brazen new editor-in-chief--Helen Gurley Brown--shocks America and saves a dying publication by daring to talk to women about all things off-limits...\n\nNew York City is filled with opportunities for single girls like Alice Weiss\, who leaves her small midwestern town to chase her big-city dreams and unexpectedly lands the job of a lifetime working for the first female editor-in-chief ofCosmopolitan magazine\, Helen Gurley Brown.\n\nNothing could have prepared Alice for the world she enters as editors and writers resign on the spot\, refusing to work for the woman who wrote the scandalous bestseller Sex and the Single Girl\, and confidential memos\, article ideas\, and cover designs keep finding their way into the wrong hands. When someone tries to pull Alice into a scheme to sabotage her boss\, she is more determined than ever to help Helen succeed. While pressure mounts at the magazine and Alice struggles to make her way in New York\, she quickly learns that in Helen Gurley Brown's world\, a woman can demand to have it all.\n\nRen e Rosen is the author of Windy City Blues\, White Collar Girl\, What the Lady Wants\, and Dollface\, as well as the young adult novel Every Crooked Pot
X-ALT-DESC;FMTTYPE=text/html:<h1>Author Luncheon with Renee Rosen at The Deer Path Inn</h1>\n\n<div>\n<div>\n<div>\n<div>\n<div>\n<div>\n<div>\n<p><strong>Join author Renee Rosen for lunch at The Deer Path Inn as she presents her newest book release.</strong><br />\n&nbsp\;</p>\n\n<div><strong>PARK AVENUE&nbsp\;SUMMER</strong></div>\n\n<p><strong>Berkley Books\, Releases April 30\, 2019</strong></p>\n\n<p><strong>Wednesday\, May 1\, 2019 at 11:30AM</strong></p>\n\n<div><strong>&nbsp\;at The Deer Path Inn</strong></div>\n\n<div><strong>255 East Illinois Street</strong></div>\n\n<p><strong>Lake Forest\, IL 60045</strong></p>\n\n<p><strong>$55 includes lunch and book</strong></p>\n\n<p><strong>Seating is limited and reservations are required. Call 847-234-4420</strong></p>\n\n<p><strong><em>Mad Men</em>&nbsp\;meets&nbsp\;<em>The Devil Wears Prada</em>&nbsp\;as Ren&eacute\;e Rosen draws readers into the glamorous New York City of 1965 and<em>&nbsp\;Cosmopolitan</em>&nbsp\;magazine\, where a brazen new editor-in-chief--Helen Gurley Brown--shocks America and saves a dying publication by daring to talk to women about all things off-limits...</strong></p>\n\n<p><strong>New York City is filled with opportunities for single girls like Alice Weiss\, who leaves her small midwestern town to chase her big-city dreams and unexpectedly lands the job of a lifetime working for the first female editor-in-chief of<em>Cosmopolitan</em>&nbsp\;magazine\, Helen Gurley Brown.</strong></p>\n\n<p><strong>Nothing could have prepared Alice for the world she enters as editors and writers resign on the spot\, refusing to work for the woman who wrote the scandalous bestseller&nbsp\;<em>Sex and the Single Girl</em>\, and confidential memos\, article ideas\, and cover designs keep finding their way into the wrong hands. When someone tries to pull Alice into a scheme to sabotage her boss\, she is more determined than ever to help Helen succeed. While pressure mounts at the magazine and Alice struggles to make her way in New York\, she quickly learns that in Helen Gurley Brown&#39\;s world\, a woman can demand to have it all.</strong></p>\n\n<p>Ren&eacute\;e Rosen&nbsp\;is the author of&nbsp\;<em>Windy City Blues</em>\,&nbsp\;<em>White Collar Girl</em>\,&nbsp\;<em>What the Lady Wants</em>\, and&nbsp\;<em>Dollface</em>\, as well as the young adult novel&nbsp\;<em>Every Crooked Pot</em></p>\n\n<div>&nbsp\;</div>\n</div>\n</div>\n</div>\n</div>\n</div>\n</div>\n</div>\n
LOCATION:The Deer Path Inn 255 E. Illinois Lake Forest\, IL
UID:e.1126.17640
SEQUENCE:3
DTSTAMP:20260424T084927Z
URL:https://business.lflbchamber.com/events/details/author-luncheon-with-renee-rosen-05-01-2019-17640
END:VEVENT

END:VCALENDAR
