BEGIN:VCALENDAR
VERSION:2.0
PRODID:-//ChamberMaster//Event Calendar 2.0//EN
METHOD:PUBLISH
X-PUBLISHED-TTL:P3D
REFRESH-INTERVAL:P3D
CALSCALE:GREGORIAN
BEGIN:VEVENT
DTSTART:20190411T230000Z
DTEND:20190412T000000Z
X-MICROSOFT-CDO-ALLDAYEVENT:FALSE
SUMMARY:Author Mike Conklin "Transfer U" at Lake Forest Book Store
DESCRIPTION:We welcome local author Mike Conklin to Lake Forest Book Store to discuss his newest book.\n\nTRANSFER U\n\n \n\nThursday\, April 11\, 2019 6:00 PM to 7:00 PM\n\nat Lake Forest Book Store\n\nBooks available for purchase and signing\n\nRefreshments will be served.\n\nRegister at 847-234-4420\n\nTransfer U.: Bogus scholarships\, China\, provincial faculty\, Oklahoma earthquake\, immigration\, cowboys\, and a motorcycle gang. It's a mix of academia and basketball in America like you've never seen. One team\, from a sleepy Midwestern college named for the most inconsequential president in U.S. history\, features an all-Chinese lineup concerned over lack of library time. The other\, from a school better known for a rodeo program\, includes players from a Texas prison\, U.S. Special Forces\, East LA\, St. Louis YMCA\, and a 7-footer discovered by its scheming coach in a McDonald's line in Murdo\, S.D. It's East vs. West with showdowns in Chicago\, on and off the court\, and a national title at stake  \n\nMike Conklin is a story teller. Mike's gathered stories in a media career that started on a small-town weekly\, graduated to local dailies\, and made a long stop at The Chicago Tribune. There\, he was a beat reporter\, daily columnist\, and feature writer with his work nationally syndicated. He's also written for the New York Times\, a variety of magazines\, reviewed books\, and\, after leaving The Tribune\, taught communications and writing full-time at DePaul University.
X-ALT-DESC;FMTTYPE=text/html:<p><strong>We welcome local author Mike Conklin to Lake Forest Book Store to discuss his newest book.</strong></p>\n\n<div><strong>TRANSFER U</strong><br />\n&nbsp\;</div>\n\n<div><strong>Thursday\, April 11\, 2019 6:00 PM to 7:00 PM</strong></div>\n\n<p><strong>at Lake Forest Book Store</strong></p>\n\n<p><strong>Books available for purchase and signing</strong></p>\n\n<p><strong>Refreshments will be served.</strong></p>\n\n<p><strong>Register at 847-234-4420</strong></p>\n\n<p><strong>Transfer U.: Bogus scholarships\, China\, provincial faculty\, Oklahoma earthquake\, immigration\, cowboys\, and a motorcycle gang. It&rsquo\;s a mix of academia and basketball in America like you&rsquo\;ve never seen.&nbsp\;One team\, from a sleepy Midwestern college named for the most inconsequential president in U.S. history\, features an all-Chinese lineup concerned over lack of library time.&nbsp\;The other\, from a school better known for a rodeo program\, includes players from a Texas prison\, U.S. Special Forces\, East LA\, St. Louis YMCA\, and a 7-footer discovered by its scheming coach in a McDonald&rsquo\;s line in Murdo\, S.D. It&rsquo\;s East vs. West with showdowns in Chicago\, on and off the court\, and a national title at stake&nbsp\;&nbsp\;</strong></p>\n\n<p>Mike Conklin is a story teller. Mike&#39\;s gathered stories in a media career that started on a small-town weekly\, graduated to local dailies\, and&nbsp\;made a long stop at The Chicago Tribune. There\, he was a beat reporter\, daily columnist\, and feature writer with his work nationally syndicated. He&#39\;s also written for the New York Times\, a variety of magazines\, reviewed books\, and\, after leaving The Tribune\, taught communications and writing full-time at DePaul University.</p>\n
LOCATION:Lake Forest Book Store 662 N. Western Ave Lake Forest\, IL 60045
UID:e.1126.17644
SEQUENCE:3
DTSTAMP:20260424T084907Z
URL:https://business.lflbchamber.com/events/details/author-mike-conklin-transfer-u-at-lake-forest-book-store-17644
END:VEVENT

END:VCALENDAR
