BEGIN:VCALENDAR
VERSION:2.0
PRODID:-//ChamberMaster//Event Calendar 2.0//EN
METHOD:PUBLISH
X-PUBLISHED-TTL:P3D
REFRESH-INTERVAL:P3D
CALSCALE:GREGORIAN
BEGIN:VEVENT
DTSTART:20190821T230000Z
DTEND:20190822T000000Z
X-MICROSOFT-CDO-ALLDAYEVENT:FALSE
SUMMARY:Author Stewart Lee Beck at Lake Forest Book Store
DESCRIPTION:Stewart Lee Beck discusses trading and business in China in an in-store event at Lake Forest Book Store\n\nCHINA SIMPLIFIED: HISTORY FLASHBACK\n\nBetter understand modern China with this entertaining journey to the heart of its 5\,000-year history. Ideal for business persons who want to raise their China game\, students who seek to make deeper cultural connections\, and travelers in search of valuable insights into Chinese culture.\n\nCHINA SIMPLIFIED: LANGUAGE EMPOWERMENT\n\nAn entertaining journey to the heart of the Chinese language to deepen your understanding of China and its people. A must-read for anyone who wants to improve their Mandarin or cultivate better relationships with Chinese worldwide.\n\nWednesday\, August 21\, 2019 at 6:00 pm\n\nat Lake Forest Book Store\n\nBooks available for purchase and signing\n\nRefreshments will be served\n\nSeating is limited\, call 847-234-4420\n\nStewart Lee Beck is a writer and producer who's lived and worked among the Chinese for 24 years. Stewart has helped raise nearly $15 million for children's charities in China. He refers to his Malaysian-Chinese wife as "the crazy woman who keeps me sane."
X-ALT-DESC;FMTTYPE=text/html:<p><strong>Stewart Lee Beck discusses&nbsp\;trading and business in China in an in-store event at Lake Forest Book Store</strong></p>\n\n<div><strong>CHINA SIMPLIFIED: HISTORY FLASHBACK</strong></div>\n\n<p><strong>Better understand modern China with this entertaining journey to the heart of its 5\,000-year history. Ideal for business persons who want to raise their China game\, students who seek to make deeper cultural connections\, and travelers in search of valuable insights into Chinese culture.</strong></p>\n\n<div><strong>CHINA SIMPLIFIED: LANGUAGE EMPOWERMENT</strong></div>\n\n<p><strong>An entertaining journey to the heart of the Chinese language to deepen your understanding of China and its people. A must-read for anyone who wants to improve their Mandarin or cultivate better relationships with Chinese worldwide.</strong></p>\n\n<div><strong>Wednesday\, August 21\, 2019 at&nbsp\;6:00 pm</strong></div>\n\n<p><strong>at Lake Forest Book Store</strong></p>\n\n<p><strong>Books available for purchase and signing</strong></p>\n\n<p><strong>Refreshments will be served</strong></p>\n\n<p><strong>Seating is limited\, call 847-234-4420</strong></p>\n\n<p>Stewart Lee Beck is a writer and producer who&#39\;s lived and worked among the Chinese for 24 years. Stewart has helped raise nearly $15 million for children&#39\;s charities in China. He refers to his Malaysian-Chinese wife as &quot\;the crazy woman who keeps me sane.&quot\;</p>\n
LOCATION:Lake Forest Book Store 662 N. Western Avenue Lake Forest\, IL 60045
UID:e.1126.18121
SEQUENCE:3
DTSTAMP:20260424T043851Z
URL:https://business.lflbchamber.com/events/details/author-stewart-lee-beck-at-lake-forest-book-store-18121
END:VEVENT

END:VCALENDAR
