BEGIN:VCALENDAR
VERSION:2.0
PRODID:-//ChamberMaster//Event Calendar 2.0//EN
METHOD:PUBLISH
X-PUBLISHED-TTL:P3D
REFRESH-INTERVAL:P3D
CALSCALE:GREGORIAN
BEGIN:VEVENT
DTSTART:20260521T000000Z
DTEND:20260521T010000Z
X-MICROSOFT-CDO-ALLDAYEVENT:FALSE
SUMMARY:Babel-On with R.F. Kuang (Illinois Libraries Present - Online Program)
DESCRIPTION:R.F. Kuang's genre-bending fiction broaches serious topics from a satirical and fantastical perspective. Academic yet approachable\, Kuang's work combines history\, magic\, and classical literary tradition to render powerful critiques of academia\, the publishing industry\, and even contemporary popular culture.\n\nRegistration is required and closes at 5pm on the day of the event. Please visit the ILP Registration page to register for this event.\n\nThis event will be recorded and available for 30 days after the event. You must register for the event in order to receive access to the recording.\n\nThis event is made possible by Illinois Libraries Present (ILP)\, a statewide collaboration among public libraries offering premier events. ILP is funded in part by a grant awarded by the Illinois State Library\, a department of the Office of Secretary of State\, using funds provided by the U.S. Institute of Museum and Library Services\, under the provisions of the Library Services and Technology Act (LSTA). \n\nILP is committed to inclusion and accessibility. To request accommodations\, please email illinoislibrariespresent@ila.org.
X-ALT-DESC;FMTTYPE=text/html:<p>R.F. Kuang&rsquo\;s genre-bending fiction broaches serious topics from a satirical and fantastical perspective. Academic yet approachable\, Kuang&rsquo\;s work combines history\, magic\, and classical literary tradition to render powerful critiques of academia\, the publishing industry\, and even contemporary popular culture.</p>\n\n<p><strong>Registration is required and closes at 5pm on the day of the event. Please visit the&nbsp\;<a href="https://bit.ly/ILPKuang" style="box-sizing: border-box\; background-color: transparent\; color: rgb(41\, 84\, 209)\; text-decoration-line: none\;">ILP Registration page</a>&nbsp\;to register for this event.</strong></p>\n\n<p><strong>This event will be recorded and available for 30 days after the event. You must register for the event in order to receive access to the recording.</strong></p>\n\n<p><em>This event is made possible by Illinois Libraries Present (ILP)\, a statewide collaboration among public libraries offering premier events. ILP is funded in part by a grant awarded by the Illinois State Library\, a department of the Office of Secretary of State\, using funds provided by the U.S. Institute of Museum and Library Services\, under the provisions of the Library Services and Technology Act (LSTA).&nbsp\;</em></p>\n\n<p>ILP is committed to inclusion and accessibility. To request accommodations\, please email&nbsp\;<a href="mailto:illinoislibrariespresent@ila.org" style="box-sizing: border-box\; background-color: transparent\; color: rgb(41\, 84\, 209)\; text-decoration-line: none\;">illinoislibrariespresent@ila.org</a>.&nbsp\;</p>\n
LOCATION:Lake Bluff Public Library 123 E. Scranton Ave. Lake Bluff\, IL. 60044
UID:e.1126.33860
SEQUENCE:3
DTSTAMP:20260424T235828Z
URL:https://business.lflbchamber.com/events/details/babel-on-with-r-f-kuang-illinois-libraries-present-online-program-33860
END:VEVENT

END:VCALENDAR
