BEGIN:VCALENDAR
VERSION:2.0
PRODID:-//ChamberMaster//Event Calendar 2.0//EN
METHOD:PUBLISH
X-PUBLISHED-TTL:P3D
REFRESH-INTERVAL:P3D
CALSCALE:GREGORIAN
BEGIN:VEVENT
DTSTART:20260509T050000Z
DTEND:20260509T183000Z
X-MICROSOFT-CDO-ALLDAYEVENT:FALSE
SUMMARY:Baby Prom!
DESCRIPTION:Oh\, Baby! It's Prom season! Join us for an afternoon of celebration\, dancing\, photo ops\, and more. Fancy attire is welcome but not required. \n\nAges 0 to 3 with an adult. Older siblings are also welcome.
X-ALT-DESC;FMTTYPE=text/html:<p><span style="font-size:11pt">Oh\, Baby! It&rsquo\;s Prom season! Join us for an afternoon of celebration\, dancing\, photo ops\, and more. Fancy attire is welcome but not required.&nbsp\;</span></p>\n\n<p><strong>Ages 0 to 3 with an adult. Older siblings are also welcome.&nbsp\;</strong></p>\n
LOCATION:Lake Bluff Public Library 123 E. Scranton Ave. Lake Bluff\, IL. 60044
UID:e.1126.33857
SEQUENCE:3
DTSTAMP:20260424T235731Z
URL:https://business.lflbchamber.com/events/details/baby-prom-33857
END:VEVENT

END:VCALENDAR
