BEGIN:VCALENDAR
VERSION:2.0
PRODID:-//ChamberMaster//Event Calendar 2.0//EN
METHOD:PUBLISH
X-PUBLISHED-TTL:P3D
REFRESH-INTERVAL:P3D
CALSCALE:GREGORIAN
BEGIN:VEVENT
DTSTART:20240505T200000Z
DTEND:20240505T220000Z
X-MICROSOFT-CDO-ALLDAYEVENT:FALSE
SUMMARY:Baby: The Musical
DESCRIPTION:Is there anything more exciting\, frightening and utterly transformational than impending parenthood? "Baby: the Musical" is full of heart and joy and has been a favorite since premiering on Broadway in 1983.
X-ALT-DESC;FMTTYPE=text/html:Is there anything more exciting\, frightening and utterly transformational than impending parenthood? &quot\;Baby: the Musical&quot\; is full of heart and joy and has been a favorite since premiering on Broadway in 1983.
LOCATION:Citadel Theatre: 300 WAUKEGAN ROAD\, LAKE FOREST\, IL 60045
UID:e.1126.26574
SEQUENCE:3
DTSTAMP:20260424T023317Z
URL:https://business.lflbchamber.com/events/details/baby-the-musical-05-05-2024-26574
END:VEVENT

END:VCALENDAR
