BEGIN:VCALENDAR
VERSION:2.0
PRODID:-//ChamberMaster//Event Calendar 2.0//EN
METHOD:PUBLISH
X-PUBLISHED-TTL:P3D
REFRESH-INTERVAL:P3D
CALSCALE:GREGORIAN
BEGIN:VEVENT
DTSTART:20260425T000000Z
DTEND:20260425T023000Z
X-MICROSOFT-CDO-ALLDAYEVENT:FALSE
SUMMARY:Band and Orchestra Concert
DESCRIPTION:Join the Lake Forest College Concert Band as we celebrate the power of music on our campus and within the Lake Forest Community. Programming will include a world premiere piece by Lake Forest's own James Stephenson\; First Light by American composer David Maslanka\, and a selection of music that represents the beautiful diversity we have in our campus community. \n\nFirst 50 community member registrations receive an invitation to a pre-event reception.\n\n \n\nThe evening will feature a USA 250-themed pre-concert reception and remarks from Lake Forest College President\, Mike Sosulski\, and chair of the Department of Music and concert conductor\, Scott Edgar.  \n\nThe concert begins at 7 p.m. with the pre-event reception (held in the Stuart Room at Gorton) beginning at 5:30 p.m. and remarks at 6:15 p.m.
X-ALT-DESC;FMTTYPE=text/html:<p>Join the Lake Forest College Concert Band&nbsp\;as we celebrate the power of music&nbsp\;on&nbsp\;our campus and&nbsp\;within the Lake&nbsp\;Forest Community.&nbsp\;Programming will include a world premiere piece by Lake Forest&rsquo\;s own&nbsp\;<u><a href="https://nam10.safelinks.protection.outlook.com/?url=https%3A%2F%2Fmusicacademy.org%2Fprofile%2Fjames-stephenson%2F&amp\;data=05%7C02%7Cjlew%40lakeforest.edu%7C4ea7ef1a6dd440b0422508de6f187c7a%7Cb4478c053dd94e06a7fb5dcf72bd44ee%7C0%7C0%7C639070348167265963%7CUnknown%7CTWFpbGZsb3d8eyJFbXB0eU1hcGkiOnRydWUsIlYiOiIwLjAuMDAwMCIsIlAiOiJXaW4zMiIsIkFOIjoiTWFpbCIsIldUIjoyfQ%3D%3D%7C0%7C%7C%7C&amp\;sdata=mU4hhvjOThzg9uge9tyn8vdMOHhS6lgdFikK0mL8iC4%3D&amp\;reserved=0" rel="nofollow noopener" style="box-sizing: border-box\; margin: 0px\; color: rgb(0\, 93\, 143)\;" target="_blank">James Stephenson</a></u>\;&nbsp\;<em>First Light</em>&nbsp\;by American composer David Maslanka\, and a&nbsp\;selection&nbsp\;of music that&nbsp\;represents&nbsp\;the beautiful diversity we&nbsp\;have&nbsp\;in&nbsp\;our campus community.&nbsp\;</p>\n\n<p>First 50 community member registrations receive an invitation to a pre-event reception.<br />\n&nbsp\;<br />\nThe evening will feature&nbsp\;a&nbsp\;USA 250-themed&nbsp\;pre-concert reception and remarks from&nbsp\;Lake Forest College President\,&nbsp\;<u><a href="https://nam10.safelinks.protection.outlook.com/?url=https%3A%2F%2Fwww.lakeforest.edu%2Fnews-and-events%2Flake-forest-college-names-dr-mike-sosulski-as-fifteenth-president&amp\;data=05%7C02%7Cjlew%40lakeforest.edu%7C4ea7ef1a6dd440b0422508de6f187c7a%7Cb4478c053dd94e06a7fb5dcf72bd44ee%7C0%7C0%7C639070348167294687%7CUnknown%7CTWFpbGZsb3d8eyJFbXB0eU1hcGkiOnRydWUsIlYiOiIwLjAuMDAwMCIsIlAiOiJXaW4zMiIsIkFOIjoiTWFpbCIsIldUIjoyfQ%3D%3D%7C0%7C%7C%7C&amp\;sdata=tZQMghdiS31H7vQ1mDgkb8CbYF40VqflXXM61dCjlUs%3D&amp\;reserved=0" rel="nofollow noopener" style="box-sizing: border-box\; margin: 0px\; color: rgb(0\, 93\, 143)\;" target="_blank">Mike Sosulski</a></u>\,&nbsp\;and chair of the Department of Music and&nbsp\;concert&nbsp\;conductor\,&nbsp\;<u><a href="https://nam10.safelinks.protection.outlook.com/?url=https%3A%2F%2Fwww.lakeforest.edu%2Facademics%2Ffaculty%2Fedgar%2F&amp\;data=05%7C02%7Cjlew%40lakeforest.edu%7C4ea7ef1a6dd440b0422508de6f187c7a%7Cb4478c053dd94e06a7fb5dcf72bd44ee%7C0%7C0%7C639070348167315078%7CUnknown%7CTWFpbGZsb3d8eyJFbXB0eU1hcGkiOnRydWUsIlYiOiIwLjAuMDAwMCIsIlAiOiJXaW4zMiIsIkFOIjoiTWFpbCIsIldUIjoyfQ%3D%3D%7C0%7C%7C%7C&amp\;sdata=VQFOL0aC8sDTQ5DFmITjL1R3eFafH381D1EEUqoDhKU%3D&amp\;reserved=0" rel="nofollow noopener" style="box-sizing: border-box\; margin: 0px\; color: rgb(0\, 93\, 143)\;" target="_blank">Scott Edgar</a></u>.&nbsp\;&nbsp\;</p>\n\n<p>The concert begins at 7 p.m.&nbsp\;with the pre-event reception&nbsp\;(held&nbsp\;in the Stuart Room at Gorton)&nbsp\;beginning at 5:30 p.m.&nbsp\;and&nbsp\;remarks at 6:15 p.m.</p>\n
LOCATION:Gorton Center 400 E. Illinois Road\, Lake Forest\, IL 60045
UID:e.1126.33913
SEQUENCE:3
DTSTAMP:20260425T220803Z
URL:https://business.lflbchamber.com/events/details/band-and-orchestra-concert-33913
END:VEVENT

END:VCALENDAR
